BEGIN:VCALENDAR
VERSION:2.0
PRODID:-//ChamberMaster//Event Calendar 2.0//EN
METHOD:PUBLISH
X-PUBLISHED-TTL:P3D
REFRESH-INTERVAL:P3D
CALSCALE:GREGORIAN
BEGIN:VEVENT
DTSTART:20220727T150000Z
DTEND:20220727T153000Z
X-MICROSOFT-CDO-ALLDAYEVENT:FALSE
SUMMARY:Catering Your Resume to the Job - A Webinar
DESCRIPTION:A Webinar with BestLogic Staffing\n\n\nJoin Anthony Perrotti\, Recruiter at BestLogic Staffing in Rocky Hill\, as he discusses what it means to cater a resume to the job you're applying for & the role it can play in the hiring process.
X-ALT-DESC;FMTTYPE=text/html:<div style="text-align: center\;"><strong>A Webinar with BestLogic Staffing</strong></div>\n<br />\n<span style="background-color:rgb(255\, 255\, 255)\; color:rgb(5\, 5\, 5)\; font-family:segoe ui historic\,segoe ui\,helvetica\,arial\,sans-serif\; font-size:15px">Join <strong>Anthony Perrotti</strong>\, Recruiter at <strong>BestLogic Staffing</strong> in Rocky Hill\, as he discusses what it means to cater a resume to the job you&#39\;re applying for &amp\; the role it can play in the hiring process.</span>
LOCATION:Online @ https://fb.me/e/26aC4bJw8
UID:e.1932.23850
SEQUENCE:3
DTSTAMP:20260421T033343Z
URL:https://business.middlesexchamber.com/events/details/catering-your-resume-to-the-job-a-webinar-23850
END:VEVENT

END:VCALENDAR
