BEGIN:VCALENDAR
VERSION:2.0
PRODID:-//ChamberMaster//Event Calendar 2.0//EN
METHOD:PUBLISH
X-PUBLISHED-TTL:P3D
REFRESH-INTERVAL:P3D
CALSCALE:GREGORIAN
BEGIN:VEVENT
DTSTART:20250909T200000Z
DTEND:20250909T220000Z
X-MICROSOFT-CDO-ALLDAYEVENT:FALSE
SUMMARY:Career Fair at Chelsea Groton Bank\, North Stonington Branch
DESCRIPTION:Explore potential careers in banking\, talk with current team members about open positions\, and learn why Chelsea Groton has been named a Top Workplace since 2016.\n\nBe sure to dress professionally and bring your resume. We'll be meeting candidates and holding interviews on the spot for several positions from in branch to supporting roles in various departments bank-wide. Full-time\, part-time\, and parent hours are available.
X-ALT-DESC;FMTTYPE=text/html:<p><span style="font-size:18px\;"><span style="color:rgb(26\, 32\, 38)"><strong>Explore potential careers in banking\, talk with current team members about</strong></span> <a href="https://chelseagroton.com/careers/" style="--tw-border-spacing-x: 0\; --tw-border-spacing-y: 0\; --tw-translate-x: 0\; --tw-translate-y: 0\; --tw-rotate: 0\; --tw-skew-x: 0\; --tw-skew-y: 0\; --tw-scale-x: 1\; --tw-scale-y: 1\; --tw-pan-x: \; --tw-pan-y: \; --tw-pinch-zoom: \; --tw-scroll-snap-strictness: proximity\; --tw-gradient-from-position: \; --tw-gradient-via-position: \; --tw-gradient-to-position: \; --tw-ordinal: \; --tw-slashed-zero: \; --tw-numeric-figure: \; --tw-numeric-spacing: \; --tw-numeric-fraction: \; --tw-ring-inset: \; --tw-ring-offset-width: 0px\; --tw-ring-offset-color: #fff\; --tw-ring-color: rgba(59\,130\,246\,.5)\; --tw-ring-offset-shadow: 0 0 #0000\; --tw-ring-shadow: 0 0 #0000\; --tw-shadow: 0 0 #0000\; --tw-shadow-colored: 0 0 #0000\; --tw-blur: \; --tw-brightness: \; --tw-contrast: \; --tw-grayscale: \; --tw-hue-rotate: \; --tw-invert: \; --tw-saturate: \; --tw-sepia: \; --tw-drop-shadow: \; --tw-backdrop-blur: \; --tw-backdrop-brightness: \; --tw-backdrop-contrast: \; --tw-backdrop-grayscale: \; --tw-backdrop-hue-rotate: \; --tw-backdrop-invert: \; --tw-backdrop-opacity: \; --tw-backdrop-saturate: \; --tw-backdrop-sepia: \; --tw-contain-size: \; --tw-contain-layout: \; --tw-contain-paint: \; --tw-contain-style: \; background-color: transparent\; border: 0px\; margin: 0px\; padding: 0px\; box-sizing: border-box\; color: rgb(0\, 153\, 224)\;" target="_blank"><span style="color:rgb(26\, 32\, 38)"><strong>open positions</strong></span></a><span style="color:rgb(26\, 32\, 38)"><strong>\, and learn why Chelsea Groton has been named a Top Workplace since 2016.</strong></span></span></p>\n\n<p><span style="font-size:18px\;"><span style="color:rgb(26\, 32\, 38)"><strong>Be sure to dress professionally and bring your resume.</strong></span> <span style="color:rgb(26\, 32\, 38)">We&rsquo\;ll be meeting candidates and holding</span> <span style="color:rgb(26\, 32\, 38)"><strong>interviews on the spot</strong></span> <span style="color:rgb(26\, 32\, 38)">for several positions from in branch to supporting roles in various departments bank-wide. Full-time\, part-time\, and parent hours are available.&nbsp\;</span></span></p>\n
LOCATION:Chelsea Groton Bank North Stonington Branch 391 Norwich Westerly Road North Stonington\, CT
UID:e.1932.32698
SEQUENCE:3
DTSTAMP:20260424T224656Z
URL:https://business.middlesexchamber.com/events/details/career-fair-at-chelsea-groton-bank-north-stonington-branch-32698
END:VEVENT

END:VCALENDAR
