BEGIN:VCALENDAR
VERSION:2.0
PRODID:-//ChamberMaster//Event Calendar 2.0//EN
METHOD:PUBLISH
X-PUBLISHED-TTL:P3D
REFRESH-INTERVAL:P3D
CALSCALE:GREGORIAN
BEGIN:VEVENT
DTSTART:20230128T170000Z
DTEND:20230128T140000Z
X-MICROSOFT-CDO-ALLDAYEVENT:FALSE
SUMMARY:Candle Making Event
DESCRIPTION:January 28th\, 2023 is a first quarter moon.  Many people see the first quarter moon as a symbol of strength. The moon is moving towards its full brightness and is in the "yang" phase of its development. It is a good time to think about becoming stronger in the tasks needed to succeed.  The message of the first quarter moon is to keep moving forwards\, regardless of your doubts or concerns. \n\nCome to this class and create 2 candles.  That is enough to make a Valentine's gift for someone while keeping one for yourself.  Affirmations of strength to accompany each candle made by each participant.\n\nWhile the candles take time to "set" you will experience a guided meditation with Melissa along with Reiki healing energy.  Melissa will go around the room providing Reiki while participants follow along to a guided meditation pre-recorded by Melissa that focuses on the moon energy of strength.  When the meditation is complete\, enjoy an energy tea\, hot tea\, seltzers\, and/or other light refreshments to include snacks.
X-ALT-DESC;FMTTYPE=text/html:<p>January 28th\, 2023 is a first quarter moon.&nbsp\; Many people see the first quarter moon as a symbol of strength. The moon is moving towards its full brightness and is in the &ldquo\;yang&rdquo\; phase of its development. It is a good time to think about becoming stronger in the tasks needed to succeed. &nbsp\;The message of the first quarter moon is to keep moving forwards\, regardless of your doubts or concerns.&nbsp\;</p>\n\n<p>Come to this class and create 2 candles. &nbsp\;That is enough to make a Valentine&#39\;s gift for someone while keeping one for yourself. &nbsp\;Affirmations of strength to accompany each candle made by each participant.</p>\n\n<p>While the candles take time to &quot\;set&quot\; you will experience a guided meditation with Melissa along with Reiki healing energy. &nbsp\;Melissa will go around the room providing Reiki while participants follow along to a guided meditation pre-recorded by Melissa that focuses on the moon energy of strength. &nbsp\;When the meditation is complete\, enjoy an energy tea\, hot tea\, seltzers\, and/or other light refreshments to include snacks.</p>\n
LOCATION:Worthy Changes 45 Evans rd\, 2nd floor Rocky Hill\, CT 06067
UID:e.1932.24637
SEQUENCE:3
DTSTAMP:20260420T192330Z
URL:https://business.middlesexchamber.com/events/details/candle-making-event-24637
END:VEVENT

END:VCALENDAR
