BEGIN:VCALENDAR
VERSION:2.0
PRODID:-//ChamberMaster//Event Calendar 2.0//EN
METHOD:PUBLISH
X-PUBLISHED-TTL:P3D
REFRESH-INTERVAL:P3D
CALSCALE:GREGORIAN
BEGIN:VEVENT
DTSTART:20251007T120000Z
DTEND:20251007T130000Z
X-MICROSOFT-CDO-ALLDAYEVENT:FALSE
SUMMARY:Business & Education Partnership Advisory Council
DESCRIPTION:The Middlesex County Chamber of Commerce's Business & Education Partnership Advisory Council continues to serve as a link between member businesses and educational leaders from Middlesex County Schools. Their Mission is to facilitate and encourage the development of mutually supportive partnerships between schools and businesses\, for the purpose of enriching the educational process for our students\, by providing services and opportunities\, that assist our schools in preparing them for their future as responsible and productive citizens for our global economy.\n\n \n\nIf you would like more information on how you can get involved please contact Jennifer De Kine at jennifer@middlesexchamber.com
X-ALT-DESC;FMTTYPE=text/html:The Middlesex County Chamber of Commerce&#39\;s Business &amp\; Education Partnership Advisory Council continues to serve as a link between member businesses and educational leaders from Middlesex County Schools. Their Mission is to facilitate and encourage the development of mutually supportive partnerships between schools and businesses\, for the purpose of enriching the educational process for our students\, by providing services and opportunities\, that assist our schools in preparing them for their future as responsible and productive citizens for our global economy.<br />\n&nbsp\;<br />\nIf you would like more information on how you can get involved please contact Jennifer De Kine at jennifer@middlesexchamber.com
LOCATION:CT State Community College Middlesex Chapman Hall Room 803 100 Training Hill Road Middletown\, CT
UID:e.1932.33898
SEQUENCE:3
DTSTAMP:20260424T212852Z
URL:https://business.middlesexchamber.com/events/details/business-education-partnership-advisory-council-33898
END:VEVENT

END:VCALENDAR
