BEGIN:VCALENDAR
VERSION:2.0
PRODID:-//ChamberMaster//Event Calendar 2.0//EN
METHOD:PUBLISH
X-PUBLISHED-TTL:P3D
REFRESH-INTERVAL:P3D
CALSCALE:GREGORIAN
BEGIN:VEVENT
DTSTART:20201006T120000Z
DTEND:20201006T130000Z
X-MICROSOFT-CDO-ALLDAYEVENT:FALSE
SUMMARY:Business & Education Partnership Advisory Council
DESCRIPTION:
X-ALT-DESC;FMTTYPE=text/html:
LOCATION:Meeting conducted via Zoom. Dial in by phone or join with your computer.
UID:e.1932.19200
SEQUENCE:3
DTSTAMP:20260421T033627Z
URL:https://business.middlesexchamber.com/events/details/business-education-partnership-advisory-council-19200
END:VEVENT

END:VCALENDAR
