BEGIN:VCALENDAR
VERSION:2.0
PRODID:-//ChamberMaster//Event Calendar 2.0//EN
METHOD:PUBLISH
X-PUBLISHED-TTL:P3D
REFRESH-INTERVAL:P3D
CALSCALE:GREGORIAN
BEGIN:VEVENT
DTSTART:20230404T120000Z
DTEND:20230404T130000Z
X-MICROSOFT-CDO-ALLDAYEVENT:FALSE
SUMMARY:Business & Education Partnership Advisory Council
DESCRIPTION:
X-ALT-DESC;FMTTYPE=text/html:
LOCATION:Middlesex Chamber 393 Main Street Middletown\, CT or join via Zoom
UID:e.1932.23981
SEQUENCE:3
DTSTAMP:20260420T181501Z
URL:https://business.middlesexchamber.com/events/details/business-education-partnership-advisory-council-04-04-2023-23981
END:VEVENT

END:VCALENDAR
