BEGIN:VCALENDAR
VERSION:2.0
PRODID:-//ChamberMaster//Event Calendar 2.0//EN
METHOD:PUBLISH
X-PUBLISHED-TTL:P3D
REFRESH-INTERVAL:P3D
CALSCALE:GREGORIAN
BEGIN:VEVENT
DTSTART:20260217T220000Z
DTEND:20260218T000000Z
X-MICROSOFT-CDO-ALLDAYEVENT:FALSE
SUMMARY:Business After Work hosted by Water's Edge Resort & Spa\, Westbrook
DESCRIPTION:Water's Edge Resort & Spa\n\n\nWe invite our Members and their key employees to join the Chamber staff and fellow business members for complimentary hot and cold hors d'oeuvres\, wine\, beer and soft drinks.\n\n\n\n We are asking a suggested donation of $5.00 to raise funds for Chamber Youth Programs at this event.\n\n\n\nThis is a great networking opportunity! Don't forget your business cards!\n\nYou must be 21 or over to attend a Business After Work\n\n\n\nABOUT WATER'S EDGE RESORT & SPA\n\n \n\nPerfectly landscaped gardens\, acres of grounds overlooking the water\, a private white sand beach\, restaurants\, entertainment\, a premium spa and so much more. For over 30 years\, Water's Edge Resort and Spa has kept its presence as a top New England beachfront resort for vacations and getaways. It's where family memories are made\, romantic escapes are treasured and it's where Connecticut goes to find the shore. With spectacular views of Long Island Sound\, Water's Edge in Westbrook\, CT is just a short drive from all that Southeastern Connecticut has to offer.
X-ALT-DESC;FMTTYPE=text/html:<div style="text-align: center\;"><font color="#000000"><b>Water&#39\;s Edge Resort &amp\; Spa</b></font></div>\n<br />\nWe invite our<strong> Members and their key employees </strong>to join the Chamber staff and fellow business members for complimentary hot and cold hors d&#39\;oeuvres\, wine\, beer and soft drinks.<br />\n<br />\n&#8203\;We are asking a suggested donation of $5.00 to raise funds for Chamber Youth Programs at this event.<br />\n<br />\nThis is a great networking opportunity! Don&#39\;t forget your business cards!<br />\n<em>You must be 21 or over to attend a Business After Work</em><br />\n<br />\n<strong><u>ABOUT WATER&#39\;S EDGE RESORT &amp\; SPA</u></strong><br />\n&nbsp\;<br />\nPerfectly landscaped gardens\, acres of grounds overlooking the water\, a private white sand beach\, restaurants\, entertainment\, a premium spa and so much more. For over 30 years\, Water&#39\;s Edge Resort and Spa has kept its presence as a top New England beachfront resort for vacations and getaways. It&#39\;s where family memories are made\, romantic escapes are treasured and it&#39\;s where Connecticut goes to find the shore. With spectacular views of Long Island Sound\, Water&#39\;s Edge in Westbrook\, CT is just a short drive from all that Southeastern Connecticut has to offer.<br />\n&nbsp\;
LOCATION:Water's Edge Resort & Spa 1525 Boston Post Road Westbrook\, CT
UID:e.1932.34722
SEQUENCE:3
DTSTAMP:20260424T170649Z
URL:https://business.middlesexchamber.com/events/details/business-after-work-hosted-by-water-s-edge-resort-spa-westbrook-34722
END:VEVENT

END:VCALENDAR
