BEGIN:VCALENDAR
VERSION:2.0
PRODID:-//ChamberMaster//Event Calendar 2.0//EN
METHOD:PUBLISH
X-PUBLISHED-TTL:P3D
REFRESH-INTERVAL:P3D
CALSCALE:GREGORIAN
BEGIN:VEVENT
DTSTART:20260513T210000Z
DTEND:20260513T230000Z
X-MICROSOFT-CDO-ALLDAYEVENT:FALSE
SUMMARY:Business After Work hosted by Wadsworth Mansion\, Middletown
DESCRIPTION:WADSWORTH MANSION\n\nGrand & historic Beaux Arts mansion hosting memorable weddings and special events.\n \n\nWe invite our Members and their key employees to join the Chamber staff and fellow business members for complimentary hot and cold hors d'oeuvres\, wine\, beer and soft drinks.\n\n \n\n We are asking a suggested donation of $5.00 to raise funds for Chamber Youth Programs at this event.\n\n \n\nThis is a great networking opportunity! Don't forget your business cards!\n\nYou must be 21 or over to attend a Business After Work
X-ALT-DESC;FMTTYPE=text/html:<div style="text-align: center\;"><strong>WADSWORTH MANSION<br />\nGrand &amp\; historic Beaux Arts mansion hosting memorable weddings and special events.</strong></div>\n&nbsp\;<br />\nWe invite our Members and their key employees to join the Chamber staff and fellow business members for complimentary hot and cold hors d&#39\;oeuvres\, wine\, beer and soft drinks.<br />\n&nbsp\;<br />\n&#8203\;We are asking a suggested donation of $5.00 to raise funds for Chamber Youth Programs at this event.<br />\n&nbsp\;<br />\nThis is a great networking opportunity! Don&#39\;t forget your business cards!<br />\nYou must be 21 or over to attend a Business After Work
LOCATION:Wadsworth Mansion 421 Wadsworth Street Middletown\, CT
UID:e.1932.34759
SEQUENCE:3
DTSTAMP:20260422T141226Z
URL:https://business.middlesexchamber.com/events/details/business-after-work-hosted-by-wadsworth-mansion-middletown-34759
END:VEVENT

END:VCALENDAR
