BEGIN:VCALENDAR
VERSION:2.0
PRODID:-//ChamberMaster//Event Calendar 2.0//EN
METHOD:PUBLISH
X-PUBLISHED-TTL:P3D
REFRESH-INTERVAL:P3D
CALSCALE:GREGORIAN
BEGIN:VEVENT
DTSTART:20251203T220000Z
DTEND:20251204T000000Z
X-MICROSOFT-CDO-ALLDAYEVENT:FALSE
SUMMARY:Business After Work hosted by The Shops at Main Street Market\, Middletown
DESCRIPTION:Main Street Market\, Middletown\n\n\nWe invite our Members and their key employees to join the Chamber staff and fellow business members for complimentary hot and cold hors d'oeuvres\, wine\, beer and soft drinks.\n\n\n\n We are asking a suggested donation of $5.00 to raise funds for Chamber Youth Programs at this event.\n\n\n\nThis is a great networking opportunity! Don't forget your business cards!\n\nYou must be 21 or over to attend a Business After Work\n\n \nSupport Our Community   CT Foodshare Donation Drive\n\nThe Chamber is proud to support CT Foodshare in their mission to fight hunger across Connecticut. During these challenging times\, many of our neighbors are facing food insecurity\, and together we can make a difference. We'll be collecting non-perishable food items and monetary donations to help restock local pantries and provide meals to those in need.\n\nWe encourage all committees\, councils\, and event attendees to join us in giving back   every contribution counts! Let's show the strength of our business community by coming together to support CT Foodshare and those who need it most.
X-ALT-DESC;FMTTYPE=text/html:<div style="text-align: center\;"><span style="color:#000000\;"><b>Main Street Market\, Middletown</b></span></div>\n<br />\n<span style="color:#000000\;">We invite our<strong> Members and their key employees </strong>to join the Chamber staff and fellow business members for complimentary hot and cold hors d&#39\;oeuvres\, wine\, beer and soft drinks.<br />\n<br />\n<strong>&#8203\;We are asking a suggested donation of $5.00 to raise funds for Chamber Youth Programs at this event.</strong><br />\n<br />\nThis is a great networking opportunity! Don&rsquo\;t forget your business cards!<br />\n<em>You must be 21 or over to attend a Business After Work</em></span><br />\n&nbsp\;\n<p class="xmsonormal" style="text-align: center\;"><span style="color:#000000\;"><u><strong>Support Our Community &mdash\; CT Foodshare Donation Drive</strong></u></span></p>\n\n<p class="xmsonormal"><span style="color:#000000\;">The Chamber is proud to support CT Foodshare in their mission to fight hunger across Connecticut. During these challenging times\, many of our neighbors are facing food insecurity\, and together we can make a difference. We&rsquo\;ll be collecting non-perishable food items and monetary donations to help restock local pantries and provide meals to those in need.</span></p>\n\n<p class="xmsonormal"><span style="color:#000000\;">We encourage all committees\, councils\, and event attendees to join us in giving back &mdash\; every contribution counts! Let&rsquo\;s show the strength of our business community by coming together to support CT Foodshare and those who need it most.</span></p>\n\n<p class="xmsonormal">&nbsp\;</p>\n
LOCATION:Main Street Market 386 Main Street Middletown\, CT *Parking: Parking is available in the Melilli Plaza Parking Lot located behind Main Street Market\, accessible off of DeKoven Drive or Washington Street or the parking lot behind the Chamber of Commerce\, accessible off of Broad Street or Washington Street. Please note these are both metered parking lots.
UID:e.1932.33939
SEQUENCE:3
DTSTAMP:20260424T192841Z
URL:https://business.middlesexchamber.com/events/details/business-after-work-hosted-by-the-shops-at-main-street-market-middletown-33939
END:VEVENT

END:VCALENDAR
