BEGIN:VCALENDAR
VERSION:2.0
PRODID:-//ChamberMaster//Event Calendar 2.0//EN
METHOD:PUBLISH
X-PUBLISHED-TTL:P3D
REFRESH-INTERVAL:P3D
CALSCALE:GREGORIAN
BEGIN:VEVENT
DTSTART:20230406T210000Z
DTEND:20230406T230000Z
X-MICROSOFT-CDO-ALLDAYEVENT:FALSE
SUMMARY:Business After Work hosted by Sheraton Hartford South Hotel\, Rocky Hill
DESCRIPTION:Sheraton Hartford South Hotel\n\n\nWe invite our Members and their key employees to join the Chamber staff and fellow business members for complimentary hot and cold hors d'oeuvres\, wine\, beer and soft drinks.\n\n\n\n We are asking a suggested donation of $5.00 to raise funds for Chamber Youth Programs at this event.\n\n\n\nThis is a great networking opportunity! Don't forget your business cards!\n\nYou must be 21 or over to attend a Business After Work\n\n\n\nABOUT SHERATON HARTFORD SOUTH HOTEL\n\nBoasting comfortable accommodations and superb amenities - including a recently redesigned fitness center and an indoor pool - our hotel is an excellent choice for travelers visiting the greater Hartford area. Our prime Rocky Hill location not only places us near the best of the city\, it also situates us near many of Connecticut's top attractions\, including Wesleyan University. While the many bars and restaurants of Hartford are nearby\, we encourage you to dine with us at The Common House\, our signature restaurant serving locally- inspired fare morning\, evening and night.
X-ALT-DESC;FMTTYPE=text/html:<div style="text-align: center\;"><span style="color:#000000\;"><b>Sheraton Hartford South Hotel</b></span></div>\n<br />\n<span style="color:#000000\;">We invite our<strong> Members and their key employees </strong>to join the Chamber staff and fellow business members for complimentary hot and cold hors d&#39\;oeuvres\, wine\, beer and soft drinks.<br />\n<br />\n&#8203\;We are asking a suggested donation of $5.00 to raise funds for Chamber Youth Programs at this event.<br />\n<br />\nThis is a great networking opportunity! Don&#39\;t forget your business cards!<br />\n<em>You must be 21 or over to attend a Business After Work</em><br />\n<br />\n<strong><u>ABOUT SHERATON HARTFORD SOUTH HOTEL</u></strong><br />\nBoasting comfortable accommodations and superb amenities - including a recently redesigned fitness center and an indoor pool - our hotel is an excellent choice for travelers visiting the greater Hartford area. Our prime Rocky Hill location not only places us near the best of the city\, it also situates us near many of Connecticut&#39\;s top attractions\, including Wesleyan University. While the many bars and restaurants of Hartford are nearby\, we encourage you to dine with us at The Common House\, our signature restaurant serving locally- inspired fare morning\, evening and night.</span>
LOCATION:Sheraton Hartford South Hotel 100 Capital Blvd Rocky Hill\, CT
UID:e.1932.24768
SEQUENCE:3
DTSTAMP:20260420T192802Z
URL:https://business.middlesexchamber.com/events/details/business-after-work-hosted-by-sheraton-hartford-south-hotel-rocky-hill-24768
END:VEVENT

END:VCALENDAR
