BEGIN:VCALENDAR
VERSION:2.0
PRODID:-//ChamberMaster//Event Calendar 2.0//EN
METHOD:PUBLISH
X-PUBLISHED-TTL:P3D
REFRESH-INTERVAL:P3D
CALSCALE:GREGORIAN
BEGIN:VEVENT
DTSTART:20250910T210000Z
DTEND:20250910T230000Z
X-MICROSOFT-CDO-ALLDAYEVENT:FALSE
SUMMARY:Business After Work hosted by Inn at Middletown
DESCRIPTION:Inn at Middletown\n\n\nWe invite our Members and their key employees to join the Chamber staff and fellow business members for complimentary hot and cold hors d'oeuvres\, wine\, beer and soft drinks.\n\n\n\n We are asking a suggested donation of $5.00 to raise funds for Chamber Youth Programs at this event.\n\n\n\nThis is a great networking opportunity! Don't forget your business cards!\n\nYou must be 21 or over to attend a Business After Work
X-ALT-DESC;FMTTYPE=text/html:<div style="text-align: center\;"><font color="#000000"><b>Inn at Middletown</b></font></div>\n<br />\nWe invite our<strong> Members and their key employees </strong>to join the Chamber staff and fellow business members for complimentary hot and cold hors d&#39\;oeuvres\, wine\, beer and soft drinks.<br />\n<br />\n&#8203\;We are asking a suggested donation of $5.00 to raise funds for Chamber Youth Programs at this event.<br />\n<br />\nThis is a great networking opportunity! Don&#39\;t forget your business cards!<br />\n<em>You must be 21 or over to attend a Business After Work</em><br />\n&nbsp\;
LOCATION:Inn at Middletown 70 Main Street Middletown\, CT
UID:e.1932.33583
SEQUENCE:3
DTSTAMP:20260424T224239Z
URL:https://business.middlesexchamber.com/events/details/business-after-work-hosted-by-inn-at-middletown-33583
END:VEVENT

END:VCALENDAR
