BEGIN:VCALENDAR
VERSION:2.0
PRODID:-//ChamberMaster//Event Calendar 2.0//EN
METHOD:PUBLISH
X-PUBLISHED-TTL:P3D
REFRESH-INTERVAL:P3D
CALSCALE:GREGORIAN
BEGIN:VEVENT
DTSTART:20260722T210000Z
DTEND:20260722T230000Z
X-MICROSOFT-CDO-ALLDAYEVENT:FALSE
SUMMARY:Business After Work hosted by Courtyard by Marriott\, Cromwell
DESCRIPTION:We invite our Members and their key employees to join the Chamber staff and fellow business members for complimentary hot and cold hors d'oeuvres\, wine\, beer\, and soft drinks.\n\n\n\nWe are asking a suggested donation of $5.00\, with proceeds benefiting Chamber Youth Programs.\n\n\n\nYou must be 21 or over to attend a Business After Work
X-ALT-DESC;FMTTYPE=text/html:<div><span style="font-family:arial\;">We invite our Members and their key employees to join the Chamber staff and fellow business members for complimentary hot and cold hors d&#39\;oeuvres\, wine\, beer\, and soft drinks.<br />\n<br />\nWe are asking a <strong data-end="980" data-start="949">suggested donation of $5.00</strong>\, with proceeds benefiting Chamber Youth Programs.</span></div>\n\n<div><br />\n<span style="font-family:arial\;"><em>You must be 21 or over to attend a Business After Work</em></span></div>\n
LOCATION:Courtyard by Marriott 4 Sebethe Drive Cromwell\, CT
UID:e.1932.34751
SEQUENCE:3
DTSTAMP:20260424T203346Z
URL:https://business.middlesexchamber.com/events/details/business-after-work-hosted-by-courtyard-by-marriott-cromwell-34751
END:VEVENT

END:VCALENDAR
