BEGIN:VCALENDAR
VERSION:2.0
PRODID:-//ChamberMaster//Event Calendar 2.0//EN
METHOD:PUBLISH
X-PUBLISHED-TTL:P3D
REFRESH-INTERVAL:P3D
CALSCALE:GREGORIAN
BEGIN:VEVENT
DTSTART:20260312T213000Z
DTEND:20260312T223000Z
X-MICROSOFT-CDO-ALLDAYEVENT:FALSE
SUMMARY:Budgeting 101
DESCRIPTION:Know you need to budget\, but unsure where to start?\n\n\n\nJoin us for pointers on how to create a budget that you'll be able to stick to in order to achieve your financial goals.\n\n\n\nRegister today!
X-ALT-DESC;FMTTYPE=text/html:<span style="font-size:20px\;"><span style="color: rgb(0\, 0\, 0)\; font-family: calibri\;">Know you need to budget\, but unsure where to start?<br />\n<br />\nJoin us for pointers on how to create a budget that you&#39\;ll be able to stick to in order to achieve your financial goals.<br />\n<br />\n<strong><a href="https://cvent.me/z4x7o7">Register today!</a></strong></span></span>
LOCATION:Chelsea Groton Bank Mystic Branch 2 Water Street Mystic\, CT
UID:e.1932.34905
SEQUENCE:3
DTSTAMP:20260424T120909Z
URL:https://business.middlesexchamber.com/events/details/budgeting-101-03-12-2026-34905
END:VEVENT

END:VCALENDAR
