BEGIN:VCALENDAR
VERSION:2.0
PRODID:-//ChamberMaster//Event Calendar 2.0//EN
METHOD:PUBLISH
X-PUBLISHED-TTL:P3D
REFRESH-INTERVAL:P3D
CALSCALE:GREGORIAN
BEGIN:VEVENT
DTSTART:20210803T130000Z
DTEND:20210803T210000Z
X-MICROSOFT-CDO-ALLDAYEVENT:FALSE
SUMMARY:Broker Real Estate Legal Compliance Live Virtual Class
DESCRIPTION:New Haven Middlesex Realtors is offering this course that is one of the mandatory requirements for obtaining your Real Estate Broker License.\n\n\nTopics include: Organizational Structure\; Human Resources\; Business Policies & Procedures\; CMA/Valuation/BPO\; Marketing & Advertising\; Legal Documents\; CAM requirements overview and more.\n\n\n\nThis course meets the minimum requirements as set forth by the CT DCP and the Real Estate Commission. Attendees will be awarded 6 elective CE credits for their 2022 CT Real Estate License renewal. \n\n\n\nClass will be held live via Zoom on August 3rd  &  August 5th with 1/2 hour lunch break\n\n\n\nInstructor: Rhonda Ivey-Lentini\n\nRhonda Ivey-Lentini MRP\, ABR\, SRS\, SRES\, GRI\, SFR\, e-PRO\, GREEN\, HAFA\, RENE\, AHWD\, PSA Property Management Certified Realtor
X-ALT-DESC;FMTTYPE=text/html:<div style="background:rgb(250\, 250\, 250)\; border:0px\; padding:0px"><span style="font-size:14px"><span style="font-family:inherit">New Haven Middlesex Realtors is offering this course that is one of the mandatory requirements for obtaining your Real Estate Broker License.</span></span></div>\n<br />\n<span style="font-size:14px"><span style="font-family:inherit">Topics include: Organizational Structure\; Human Resources\; Business Policies &amp\; Procedures\; CMA/Valuation/BPO\; Marketing &amp\; Advertising\; Legal Documents\; CAM requirements overview and more.</span></span><br />\n<br />\n<span style="font-size:14px\;"><span style="font-family:arial\;">This course meets the minimum requirements as set forth by the CT DCP and the Real Estate Commission. Attendees will be awarded 6 elective CE credits for their 2022 CT Real Estate License renewal.&nbsp\;</span></span><br />\n<br />\n<span style="color: rgb(51\, 51\, 51)\; font-family: sans-serif\, Arial\, Verdana\, &quot\;Trebuchet MS&quot\;\; font-size: 14px\; background-color: rgb(255\, 255\, 255)\;">Class will be held live via Zoom on August 3rd&nbsp\; &amp\;&nbsp\; August 5th with 1/2 hour lunch break</span><br />\n<br />\n<span style="font-size:14px"><span style="font-family:open sans\,helveticaneue\,helvetica neue\,helvetica\,arial\,sans-serif">Instructor: Rhonda Ivey-Lentini</span></span><br />\n<span style="font-size:14px\;"><span style="font-family:arial\;"><span style="color:#696969">Rhonda Ivey-Lentini MRP\, ABR\, SRS\, SRES\, GRI\, SFR\, e-PRO\, GREEN\, HAFA\, RENE\, AHWD\, PSA Property Management Certified Realtor&reg\;</span></span></span>
LOCATION:Zoom Virtual Meeting Online
UID:e.1932.22154
SEQUENCE:3
DTSTAMP:20260423T105223Z
URL:https://business.middlesexchamber.com/events/details/broker-real-estate-legal-compliance-live-virtual-class-22154
END:VEVENT

END:VCALENDAR
