BEGIN:VCALENDAR
VERSION:2.0
PRODID:-//ChamberMaster//Event Calendar 2.0//EN
METHOD:PUBLISH
X-PUBLISHED-TTL:P3D
REFRESH-INTERVAL:P3D
CALSCALE:GREGORIAN
BEGIN:VEVENT
DTSTART:20210819T130000Z
DTEND:20210819T210000Z
X-MICROSOFT-CDO-ALLDAYEVENT:FALSE
SUMMARY:Broker Principles & Practices of Real Estate Virtual Class
DESCRIPTION:NHMR is offering this two-day\, 15 Hour course which is the Pre-Licensing Requirement to earn your Real Estate Brokers License. This is a live virtual class being held via Zoom being held on Aug.17th & Aug. 19th.\n\n \n\n\nThis required course will cover Organizational Structure\, Business Policies and Procedures\, and Human Resource issues.  Additional topics include: Marketing/Advertising\, Property Management\, CMA?s\, Financing\, Land Use Regulations\, Land Use Regulations\, Community Association Managers\, Real Estate Commission Policy on use of Unlicensed Persons by Licensees\, Referral Fees\, Legal Documents.\n\n\n\nThis course meets the minimum requirements as set forth by the CT DCP and the Real Estate Commission. Attendees will be awarded 6 elective CE credits for their 2022 CT Real Estate License renewal. \n\n\n\nInstructor: Rhonda Ivey-Lentini MRP\, ABR\, SRS\, SRES\, GRI\, SFR\, e-PRO\, GREEN\, HAFA\, RENE\, AHWD\, PSA Property Management Certified Realtor
X-ALT-DESC;FMTTYPE=text/html:<div style="background:rgb(250\, 250\, 250)\; border:0px\; padding:0px"><span style="font-size:14px"><span style="font-family:inherit">NHMR is offering this two-day\,&nbsp\;</span>15 Hour course which is the Pre-Licensing Requirement to earn your Real Estate Brokers License. This is a live virtual class being held via Zoom being held on Aug.17th &amp\; Aug. 19th.</span><br />\n&nbsp\;</div>\n\n<div style="background:rgb(250\, 250\, 250)\; border:0px\; padding:0px">\n<div style="background:transparent\; border:0px\; padding:0px"><span style="font-size:14px"><span style="font-family:inherit">This required course will cover Organizational Structure\, Business Policies and Procedures\, and Human Resource issues.&nbsp\; Additional topics include: Marketing/Advertising\, Property Management\, CMA?s\, Financing\, Land Use Regulations\, Land Use Regulations\, Community Association Managers\, Real Estate Commission Policy on use of Unlicensed Persons by Licensees\, Referral Fees\, Legal Documents.</span></span><br />\n<br />\nThis course meets the minimum requirements as set forth by the CT DCP and the Real Estate Commission. Attendees will be awarded 6 elective CE credits for their 2022 CT Real Estate License renewal.&nbsp\;<br />\n<br />\n<span style="font-size:14px"><span style="color:rgb(102\, 102\, 102)\; font-family:open sans\,helveticaneue\,helvetica neue\,helvetica\,arial\,sans-serif">Instructor: Rhonda Ivey-Lentini MRP\, ABR\, SRS\, SRES\, GRI\, SFR\, e-PRO\, GREEN\, HAFA\, RENE\, AHWD\, PSA Property Management Certified Realtor&reg\;</span></span></div>\n</div>\n
LOCATION:Zoom Meeting Platform
UID:e.1932.22173
SEQUENCE:3
DTSTAMP:20260423T105223Z
URL:https://business.middlesexchamber.com/events/details/broker-principles-practices-of-real-estate-virtual-class-08-19-2021-22173
END:VEVENT

END:VCALENDAR
