BEGIN:VCALENDAR
VERSION:2.0
PRODID:-//ChamberMaster//Event Calendar 2.0//EN
METHOD:PUBLISH
X-PUBLISHED-TTL:P3D
REFRESH-INTERVAL:P3D
CALSCALE:GREGORIAN
BEGIN:VEVENT
DTSTART:20180426T220000Z
DTEND:20180427T010000Z
X-MICROSOFT-CDO-ALLDAYEVENT:FALSE
SUMMARY:Brenda Milkofsky Curatorial Fund Dinner
DESCRIPTION:Milkofsky Curatorial Trust Dinner\n\nApril is for Acquisitions at the Connecticut River Museum and you can help grow the Museum collections by supporting the Milkofsky Curatorial Fund. This year Collector Geoffrey Paul of Essex will be the speaker\, presenting his talk Tales of Zanzibar about his travels to that fabled isle and collections related to local ivory-merchant George A. Cheney and More Tales of Zanzibar.\n\nThe menu features "A Taste of Northern Africa".\n\nJoin us for this delightfully entertaining evening.\n\nThis year's dinner will be held at the Old Lyme Country Club.\n\nTo make a reservation:  purchase online or call: 860.767.8269 x110.
X-ALT-DESC;FMTTYPE=text/html:&nbsp\;&nbsp\;&nbsp\;&nbsp\;\n<p>Milkofsky Curatorial Trust Dinner</p>\n\n<p><em>April is for Acquisitions</em>&nbsp\;at the Connecticut River Museum and you can help grow the Museum collections by supporting the Milkofsky Curatorial Fund. This year Collector Geoffrey Paul of Essex will be the speaker\, presenting his talk&nbsp\;<em>Tales of Zanzibar&nbsp\;</em>about&nbsp\;his travels to that fabled isle and collections related to local ivory-merchant George A. Cheney and More Tales of Zanzibar.</p>\n\n<p>The menu features &ldquo\;A Taste of Northern Africa&rdquo\;.</p>\n\n<p>Join us for this delightfully entertaining evening.</p>\n\n<p>This year&rsquo\;s dinner will be held at the Old Lyme Country Club.</p>\n\n<p><strong>To make a reservation:</strong>&nbsp\;&nbsp\;<a href="http://shop.ctrivermuseum.org/SearchResults.asp?Cat=1922" style="background: transparent\; border: 0px\; margin: 0px\; padding: 0px\; vertical-align: baseline\; font-weight: lighter\; font-family: myriadsemibold\; color: rgb(0\, 125\, 204)\; text-decoration-line: none\;">purchase online</a>&nbsp\;or call: 860.767.8269 x110.</p>\n
LOCATION:Old Lyme Country Club 40 McCurdy Road Old Lyme\, CT 06371
UID:e.1932.6302
SEQUENCE:3
DTSTAMP:20260422T025851Z
URL:https://business.middlesexchamber.com/events/details/brenda-milkofsky-curatorial-fund-dinner-6302
END:VEVENT

END:VCALENDAR
