BEGIN:VCALENDAR
VERSION:2.0
PRODID:-//ChamberMaster//Event Calendar 2.0//EN
METHOD:PUBLISH
X-PUBLISHED-TTL:P3D
REFRESH-INTERVAL:P3D
CALSCALE:GREGORIAN
BEGIN:VEVENT
DTSTART:20221211T140000Z
DTEND:20221211T160000Z
X-MICROSOFT-CDO-ALLDAYEVENT:FALSE
SUMMARY:Breakfast With Santa at Madison Beach Hotel
DESCRIPTION:Celebrate the holidays this year with some one-on-one time with Santa!\n\n\n\nMeet Santa this year and share your wish list with him directly!\n\n\n\nTickets are required for each attending guest. Ticket includes: \n\n	Breakfast\n	Meet and Greet with Santa and a Photo Opp\n	One Bloody Mary or Mimosa for each Adult\n	A Special Treat Bag for each Child.
X-ALT-DESC;FMTTYPE=text/html:Celebrate the holidays this year with some one-on-one time with Santa!<br />\n<br />\nMeet Santa this year and share your wish list with him directly!<br />\n<br />\nTickets are required for each attending guest. Ticket includes:&nbsp\;\n<ul>\n	<li>Breakfast</li>\n	<li>Meet and Greet with Santa and a Photo Opp</li>\n	<li>One Bloody Mary or Mimosa for each Adult</li>\n	<li>A Special Treat Bag for each Child.</li>\n</ul>\n
LOCATION:Madison Beach Hotel 94 West Wharf Road Madison\, CT
UID:e.1932.24109
SEQUENCE:3
DTSTAMP:20260420T204945Z
URL:https://business.middlesexchamber.com/events/details/breakfast-with-santa-at-madison-beach-hotel-24109
END:VEVENT

END:VCALENDAR
