BEGIN:VCALENDAR
VERSION:2.0
PRODID:-//ChamberMaster//Event Calendar 2.0//EN
METHOD:PUBLISH
X-PUBLISHED-TTL:P3D
REFRESH-INTERVAL:P3D
CALSCALE:GREGORIAN
BEGIN:VEVENT
DTSTART:20231217T140000Z
DTEND:20231217T160000Z
X-MICROSOFT-CDO-ALLDAYEVENT:FALSE
SUMMARY:Breakfast with Santa at Madison Beach Hotel
DESCRIPTION:Celebrate the holidays this year with some one-on-one time with Santa. Meet Santa this year and share your wish list with him directly!\n\n\n\nTickets are required for each attending guest. Ticket includes: Breakfast Meet and Greet with Santa and a Photo Opp and a special treat bag for each child.\n\n\n\nPricing: $59 inclusive per person Children under 3: free Each attending guest requires a ticket. All guests older than three is $59 inclusive of gratuity and sales tax. EventBrite Fees are additional. \n\n\n\nCash Bar Available featuring Bloody Mary's\, Mimosas\, Bellini\, Beer\, Wine\, Holiday Cocktail Seating\n\n\n\nArrangements: Seating is open and reserved by groups. Tables will be shared\, communal-style.\n\n\n\nPARKING: Complimentary Valet Parking\n\n\n\nMENU Chef Created Menu will feature a hot breakfast buffet Top your Own... Waffle Bar with Matteson maple syrup\, gummy bears\, chocolate chips\, whipped cream\, sprinkles\, Hershey syrup Spinach and Mushroom Quiche French Style Scrambled Eggs \, cheese and salsa on the side Tater Tot Home Fries Breakfast Potatoes Applewood Smoked Bacon Fresh Salad Assorted Mini Breakfast Pastries and Croissants Hot Beverage Station with Coffee & Hot Cocoa Station & fixings Orange Juice and Chocolate Milk\n\n\n\nQuestions: Call 203-350-0014
X-ALT-DESC;FMTTYPE=text/html:<span style="font-size:18px\;"><span style="font-family:arial\;">Celebrate the holidays this year with some one-on-one time with Santa. Meet Santa this year and share your wish list with him directly!<br />\n<br />\nTickets are required for each attending guest. Ticket includes: Breakfast Meet and Greet with Santa and a Photo Opp and a special treat bag for each child.<br />\n<br />\nPricing: $59 inclusive per person Children under 3: free Each attending guest requires a ticket. All guests older than three is $59 inclusive of gratuity and sales tax. EventBrite Fees are additional.&nbsp\;<br />\n<br />\nCash Bar Available featuring Bloody Mary&#39\;s\, Mimosas\, Bellini\, Beer\, Wine\, Holiday Cocktail Seating<br />\n<br />\nArrangements: Seating is open and reserved by groups. Tables will be shared\, communal-style.<br />\n<br />\nPARKING: Complimentary Valet Parking<br />\n<br />\nMENU Chef Created Menu will feature a hot breakfast buffet Top your Own... Waffle Bar with Matteson maple syrup\, gummy bears\, chocolate chips\, whipped cream\, sprinkles\, Hershey syrup Spinach and Mushroom Quiche French Style Scrambled Eggs \, cheese and salsa on the side Tater Tot Home Fries Breakfast Potatoes Applewood Smoked Bacon Fresh Salad Assorted Mini Breakfast Pastries and Croissants Hot Beverage Station with Coffee &amp\; Hot Cocoa Station &amp\; fixings Orange Juice and Chocolate Milk</span><br />\n<br />\n<span style="color: rgb(51\, 51\, 51)\; font-family: sans-serif\, Arial\, Verdana\, &quot\;Trebuchet MS&quot\;\; background-color: rgb(255\, 255\, 255)\;">Questions: Call 203-350-0014</span></span>
LOCATION:Madison Beach Hotel\, Curio Collection by Hilton 94 West Wharf Road Madison\, CT 06443
UID:e.1932.26713
SEQUENCE:3
DTSTAMP:20260420T054557Z
URL:https://business.middlesexchamber.com/events/details/breakfast-with-santa-at-madison-beach-hotel-12-17-2023-26713
END:VEVENT

END:VCALENDAR
