BEGIN:VCALENDAR
VERSION:2.0
PRODID:-//ChamberMaster//Event Calendar 2.0//EN
METHOD:PUBLISH
X-PUBLISHED-TTL:P3D
REFRESH-INTERVAL:P3D
CALSCALE:GREGORIAN
BEGIN:VEVENT
DTSTART:20220611T133000Z
DTEND:20220611T153000Z
X-MICROSOFT-CDO-ALLDAYEVENT:FALSE
SUMMARY:Book Signing Event with George Fellner
DESCRIPTION:A Book Signing Event for the new book\, Imaginary Realms: The Continual Exploration of Stones and Crystals\, by George Fellner is scheduled for this Saturday\, June 11\, 9:30-11:30am at Two Wrasslin' Cats coffee shop in East Haddam\, CT. Many thanks to Mark Thiede for hosting this event. This sequel includes 86 new images from my evolving collection of abstract expressionist photographs.
X-ALT-DESC;FMTTYPE=text/html:A Book Signing Event for the new book\, Imaginary Realms: The Continual Exploration of Stones and Crystals\, by George Fellner is scheduled for this Saturday\, June 11\, 9:30-11:30am at Two Wrasslin&#39\; Cats coffee shop in East Haddam\, CT. Many thanks to Mark Thiede for hosting this event. This sequel includes 86 new images from my evolving collection of abstract expressionist photographs.
LOCATION:Two Wrasslin' Cats 374 Town St East Haddam\, CT 06423
UID:e.1932.23727
SEQUENCE:3
DTSTAMP:20260421T044512Z
URL:https://business.middlesexchamber.com/events/details/book-signing-event-with-george-fellner-23727
END:VEVENT

END:VCALENDAR
