BEGIN:VCALENDAR
VERSION:2.0
PRODID:-//ChamberMaster//Event Calendar 2.0//EN
METHOD:PUBLISH
X-PUBLISHED-TTL:P3D
REFRESH-INTERVAL:P3D
CALSCALE:GREGORIAN
BEGIN:VEVENT
DTSTART:20251218T163000Z
DTEND:20251218T180000Z
X-MICROSOFT-CDO-ALLDAYEVENT:FALSE
SUMMARY:Board of Directors
DESCRIPTION:The Board of Directors acts as our governing body and provides the structure behind Chamber initiatives\, committees and councils as well as considers and implements policy and operational recommendations made by our Executive Committee.  Our Board of Directors represents a cross section of business interests as well as geographic areas in Middlesex County.\n\n \n\nFor a listing of the Board of Directors\, please click here.
X-ALT-DESC;FMTTYPE=text/html:The Board of Directors acts as our governing body and provides the structure behind Chamber initiatives\, committees and councils as well as considers and implements policy and operational recommendations made by our Executive Committee.&nbsp\; Our Board of Directors represents a cross section of business interests as well as geographic areas in Middlesex County.<br />\n&nbsp\;<br />\nFor a listing of the Board of Directors\, please <a href="https://www.middlesexchamber.com/board-of-directors/">click here</a>.
LOCATION:The Gelston House 8 Main Street East Haddam\, CT
UID:e.1932.32594
SEQUENCE:3
DTSTAMP:20260424T192046Z
URL:https://business.middlesexchamber.com/events/details/board-of-directors-32594
END:VEVENT

END:VCALENDAR
