BEGIN:VCALENDAR
VERSION:2.0
PRODID:-//ChamberMaster//Event Calendar 2.0//EN
METHOD:PUBLISH
X-PUBLISHED-TTL:P3D
REFRESH-INTERVAL:P3D
CALSCALE:GREGORIAN
BEGIN:VEVENT
DTSTART:20201015T153000Z
DTEND:20201015T170000Z
X-MICROSOFT-CDO-ALLDAYEVENT:FALSE
SUMMARY:Board of Directors
DESCRIPTION:
X-ALT-DESC;FMTTYPE=text/html:
LOCATION:Meeting conducted via Zoom. Dial in by phone or join with your computer.
UID:e.1932.19517
SEQUENCE:3
DTSTAMP:20260421T044505Z
URL:https://business.middlesexchamber.com/events/details/board-of-directors-19517
END:VEVENT

END:VCALENDAR
