BEGIN:VCALENDAR
VERSION:2.0
PRODID:-//ChamberMaster//Event Calendar 2.0//EN
METHOD:PUBLISH
X-PUBLISHED-TTL:P3D
REFRESH-INTERVAL:P3D
CALSCALE:GREGORIAN
BEGIN:VEVENT
DTSTART:20211118T163000Z
DTEND:20211118T180000Z
X-MICROSOFT-CDO-ALLDAYEVENT:FALSE
SUMMARY:Board of Directors
DESCRIPTION:Special Thanks to this Month's Host:\n\nLiberty Bank
X-ALT-DESC;FMTTYPE=text/html:Special Thanks to this Month&#39\;s Host:<br />\nLiberty Bank
LOCATION:Sicily Coal Fired Pizza 412 Main Street Middletown\, CT
UID:e.1932.20424
SEQUENCE:3
DTSTAMP:20260423T082612Z
URL:https://business.middlesexchamber.com/events/details/board-of-directors-11-18-2021-20424
END:VEVENT

END:VCALENDAR
