BEGIN:VCALENDAR
VERSION:2.0
PRODID:-//ChamberMaster//Event Calendar 2.0//EN
METHOD:PUBLISH
X-PUBLISHED-TTL:P3D
REFRESH-INTERVAL:P3D
CALSCALE:GREGORIAN
BEGIN:VEVENT
DTSTART:20250301T010000Z
DTEND:20250301T040000Z
X-MICROSOFT-CDO-ALLDAYEVENT:FALSE
SUMMARY:Blues Festival Weekend at Madison Beach Hotel
DESCRIPTION:Madison Beach Hotel will once again host its highly anticipated annual Blues Festival Weekend. Two Events - One Weekend.\n\n\n\nFRIDAY\, FEBRUARY 28: Wharf Unplugged kicks off our weekend of music and blues. RESERVE ONLINE Join us in The Wharf for a special unplugged musical performance with the band LoveFox. Music begins at 8 p.m. Intimate show setting. LOVEFOX will perform in the main dining room. Please reserve 7:30\, 7:45 or 8 p.m. Newport singer-guitarist Megan Chenot joins queens of the Connecticut music scene Chrissy Gardner Fox (piano\, vocals) and Lee-Ann Lovelace (vocals\, percussion) in the three-woman band LOVEFOX. This dynamic trio redefines classic rock and pop hits with their exceptional vocal prowess and intricate harmonies. Their sound is a genuine expression of love for the music\, infusing each song with a fresh\, heartfelt energy that resonates deeply with listeners.\n\n\n\nSATURDAY\, MARCH 1: Guitar Master Class with Jim Weider\, THE ART of TELECASTER PLAYING & Roots of Blues\, Rock & Roll\, 3 p.m. Tickets $30\n\n\n\nSATURDAY\, MARCH 1\, 2025: Blues\, Brews and Bourbon TICKET LINK The event promises an unforgettable evening of soulful blues music featuring Jake Kulak and the Modern Vandals and featured guests Quinn Sullivan and Jim Weider. The event promises an unforgettable evening of soulful blues music featuring the award-winning Jake Kulak and the Modern Vandals\, with special guest performance by the acclaimed native New Yorker and master of the classic telecaster guitar\, Jim Weider and Acclaimed singer-songwriter and guitarist Quinn Sullivan.\n\n\n\nReserved Tables of 10: $500* ($50 per ticket) min/max 10 tickets\, provides guaranteed table seating\n\n\n\nGeneral Admission: $45* per ticket\, no reserved seating\, theatre style seating. Day of Event: $50*per ticket\, subject to availability
X-ALT-DESC;FMTTYPE=text/html:<span style="font-size:18px\;">Madison Beach Hotel will once again host its highly anticipated annual Blues Festival Weekend. Two Events - One Weekend.<br />\n<br />\n<strong>FRIDAY\, FEBRUARY 28:</strong> Wharf Unplugged kicks off our weekend of music and blues. RESERVE ONLINE Join us in The Wharf for a special unplugged musical performance with the band LoveFox. Music begins at 8 p.m. Intimate show setting. LOVEFOX will perform in the main dining room. Please reserve 7:30\, 7:45 or 8 p.m. Newport singer-guitarist Megan Chenot joins queens of the Connecticut music scene Chrissy Gardner Fox (piano\, vocals) and Lee-Ann Lovelace (vocals\, percussion) in the three-woman band LOVEFOX. This dynamic trio redefines classic rock and pop hits with their exceptional vocal prowess and intricate harmonies. Their sound is a genuine expression of love for the music\, infusing each song with a fresh\, heartfelt energy that resonates deeply with listeners.<br />\n<br />\n<strong>SATURDAY\, MARCH 1</strong>: Guitar Master Class with Jim Weider\, THE ART of TELECASTER PLAYING &amp\; Roots of Blues\, Rock &amp\; Roll\, 3 p.m. Tickets $30<br />\n<br />\n<strong>SATURDAY\, MARCH 1\, 2025</strong>: Blues\, Brews and Bourbon <a href="https://madisonbeachhotelevents.com/events/annual-blues-festival-with-jake-kulak-friends/"><b>TICKET LINK&nbsp\;</b></a>The event promises an unforgettable evening of soulful blues music featuring Jake Kulak and the Modern Vandals and featured guests Quinn Sullivan and Jim Weider. The event promises an unforgettable evening of soulful blues music featuring the award-winning Jake Kulak and the Modern Vandals\, with special guest performance by the acclaimed native New Yorker and master of the classic telecaster guitar\, Jim Weider and Acclaimed singer-songwriter and guitarist Quinn Sullivan.<br />\n<br />\n<span style="color: rgb(51\, 51\, 51)\; font-family: sans-serif\, Arial\, Verdana\, &quot\;Trebuchet MS&quot\;\; background-color: rgb(255\, 255\, 255)\;">Reserved Tables of 10: $500* ($50 per ticket) min/max 10 tickets\, provides guaranteed table seating<br />\n<br />\nGeneral Admission: $45* per ticket\, no reserved seating\, theatre style seating. Day of Event: $50*per ticket\, subject to availability</span></span>
LOCATION:Madison Beach Hotel\, Curio Collection by Hilton 94 West Wharf Road Madison\, CT
UID:e.1932.30667
SEQUENCE:3
DTSTAMP:20260421T111234Z
URL:https://business.middlesexchamber.com/events/details/blues-festival-weekend-at-madison-beach-hotel-30667
END:VEVENT

END:VCALENDAR
