BEGIN:VCALENDAR
VERSION:2.0
PRODID:-//ChamberMaster//Event Calendar 2.0//EN
METHOD:PUBLISH
X-PUBLISHED-TTL:P3D
REFRESH-INTERVAL:P3D
CALSCALE:GREGORIAN
BEGIN:VEVENT
DTSTART:20220821T160000Z
DTEND:20220821T200000Z
X-MICROSOFT-CDO-ALLDAYEVENT:FALSE
SUMMARY:Back to school Family Fun-Day II
DESCRIPTION:Join us for our second annual March For Education "Back to School" Family Fun-Day Sunday being held in Middletown CT. \n\n \n\nLast year we hosted the event to bring the community families together with fun activities\, games\, guest speakers\, Bounce house\, Dunk Booth\, talent with food and surprises.\n\n\n\nThis year\, with more community support\, we will upgrade your experience.\n\n \n\nSo come out and enjoy a fun day with the community.\n\nhttp://events.marchforeducation.com/pastevents.html
X-ALT-DESC;FMTTYPE=text/html:<span style="font-size:16.0pt">Join us for our second annual March For Education &ldquo\;Back to School&rdquo\; Family Fun-Day Sunday being held in Middletown CT. </span><br />\n&nbsp\;<br />\n<span style="font-size:16.0pt">Last year we hosted the event to bring the community families together with fun activities\, games\, guest speakers\, Bounce house\, Dunk Booth\, talent with food and surprises.<br />\n<br />\nThis year\, with more community support\, we will upgrade your experience.</span><br />\n&nbsp\;<br />\n<span style="font-family:calibri\,sans-serif"><span style="font-size:16.0pt">So come out and enjoy a fun day with the community.</span></span><br />\nhttp://events.marchforeducation.com/pastevents.html<br />\n&nbsp\;
LOCATION:McCutcheon Park 100 Livingston Road Middletown CT
UID:e.1932.23878
SEQUENCE:3
DTSTAMP:20260421T021034Z
URL:https://business.middlesexchamber.com/events/details/back-to-school-family-fun-day-ii-23878
END:VEVENT

END:VCALENDAR
