BEGIN:VCALENDAR
VERSION:2.0
PRODID:-//ChamberMaster//Event Calendar 2.0//EN
METHOD:PUBLISH
X-PUBLISHED-TTL:P3D
REFRESH-INTERVAL:P3D
CALSCALE:GREGORIAN
BEGIN:VEVENT
DTSTART:20201013T213000Z
DTEND:20201013T223000Z
X-MICROSOFT-CDO-ALLDAYEVENT:FALSE
SUMMARY:Automotive Council
DESCRIPTION:Guest Speaker: Deputy Commissioner Tony Guerrera\, CT Dept of Motor Vehicles\n\nand Chris Smith\, Dealers & Repairs
X-ALT-DESC;FMTTYPE=text/html:<br />\nGuest Speaker: Deputy Commissioner Tony Guerrera\, CT Dept of Motor Vehicles<br />\nand Chris Smith\, Dealers &amp\; Repairs&nbsp\;
LOCATION:Meeting conducted via Zoom. Dial in by phone or join with your computer.
UID:e.1932.19275
SEQUENCE:3
DTSTAMP:20260421T044443Z
URL:https://business.middlesexchamber.com/events/details/automotive-council-19275
END:VEVENT

END:VCALENDAR
