BEGIN:VCALENDAR
VERSION:2.0
PRODID:-//ChamberMaster//Event Calendar 2.0//EN
METHOD:PUBLISH
X-PUBLISHED-TTL:P3D
REFRESH-INTERVAL:P3D
CALSCALE:GREGORIAN
BEGIN:VEVENT
DTSTART:20220408T220000Z
DTEND:20220409T020000Z
X-MICROSOFT-CDO-ALLDAYEVENT:FALSE
SUMMARY:AUSA Connecticut Chapter Annual Spring Dinner & Awards Ceremony
DESCRIPTION:Connecticut Chapter AUSA Annual Spring Dinner and Awards Ceremony at 6:00 pm on Friday the 8th of April\, 2022.\n\n\n\nMG Francis J. Evon\, Jr.\, Adjutant General of the State of Connecticut\, will be Guest Speaker. Event will include awards presentation to U.S. Army and National Guard Recruiters of the Year from Connecticut.
X-ALT-DESC;FMTTYPE=text/html:Connecticut Chapter AUSA Annual Spring Dinner and Awards Ceremony at 6:00 pm on Friday the 8th of April\, 2022.<br />\n<br />\nMG Francis J. Evon\, Jr.\, Adjutant General of the State of Connecticut\, will be Guest Speaker. Event will include awards presentation to U.S. Army and National Guard Recruiters of the Year from Connecticut.
LOCATION:Aqua Turf Club 556 Mulberry Street Plantsville\, CT 06479
UID:e.1932.23576
SEQUENCE:3
DTSTAMP:20260423T082441Z
URL:https://business.middlesexchamber.com/events/details/ausa-connecticut-chapter-annual-spring-dinner-awards-ceremony-23576
END:VEVENT

END:VCALENDAR
