BEGIN:VCALENDAR
VERSION:2.0
PRODID:-//ChamberMaster//Event Calendar 2.0//EN
METHOD:PUBLISH
X-PUBLISHED-TTL:P3D
REFRESH-INTERVAL:P3D
CALSCALE:GREGORIAN
BEGIN:VEVENT
DTSTART:20220813T150000Z
DTEND:20220813T200000Z
X-MICROSOFT-CDO-ALLDAYEVENT:FALSE
SUMMARY:Aura Photography @ Noema Hypnosis & Healing
DESCRIPTION:What color is your aura?\n\nEvery living thing has a unique energy field around it.\n\nYour aura colors are determined by your physical\, mental\, emotional and spiritual state of being.\n\nUsing a high tech computer program and a biofeedback hand sensor\, we can produce an image of your full body aura and your seven smaller energy centers called chakras.\n\nOur system can generate your aura photo\, chakra image and other informative data such as energy level\, emotions\, mind/body spirit ratio\, etc.\n\nAura photo headshot and a detailed 14-15 page report emailed for $25. Add an additional $5 if you want the picture printed. This event will be for Humans only but we also host pet aura events. \n\nFor more information\, please watch the YOUTUBE video link below.
X-ALT-DESC;FMTTYPE=text/html:<strong><span style="color:#000000"><span style="font-size:20px"><span style="font-family:segoe ui historic\,segoe ui\,helvetica\,arial\,sans-serif">What color is your aura?</span></span><br />\n<span style="font-family:segoe ui historic\,segoe ui\,helvetica\,arial\,sans-serif\; font-size:15px">Every living thing has a unique energy field around it.</span><br />\n<span style="font-family:segoe ui historic\,segoe ui\,helvetica\,arial\,sans-serif\; font-size:15px">Your aura colors are determined by your physical\, mental\, emotional and spiritual state of being.</span><br />\n<span style="font-family:segoe ui historic\,segoe ui\,helvetica\,arial\,sans-serif\; font-size:15px">Using a high tech computer program and a biofeedback hand sensor\, we can produce an image of your full body aura&nbsp\;</span><span style="font-family:segoe ui historic\,segoe ui\,helvetica\,arial\,sans-serif\; font-size:15px">and your seven smaller energy centers called chakras.</span><br />\n<span style="font-family:segoe ui historic\,segoe ui\,helvetica\,arial\,sans-serif\; font-size:15px">Our system can generate your aura photo\, chakra image and other informative data such as energy level\, emotions\, mind/body spirit ratio\, etc.</span><br />\n<span style="font-family:segoe ui historic\,segoe ui\,helvetica\,arial\,sans-serif\; font-size:15px">Aura photo headshot and a detailed 14-15 page report emailed for $25. Add an additional $5 if you want the picture printed. This event will be for Humans only but we also host pet aura events.&nbsp\;<br />\nFor more information\, please watch the YOUTUBE video link below.&nbsp\;</span></span></strong>
LOCATION:Noema Hypnosis & Healing 516 Main St. Suite 20 Middletown\, CT (through front doors\, up stairs\, right at the top\, go through the 3rd door on the left. Office is at the end of the white hallway #20)
UID:e.1932.23885
SEQUENCE:3
DTSTAMP:20260421T033302Z
URL:https://business.middlesexchamber.com/events/details/aura-photography-noema-hypnosis-healing-23885
END:VEVENT

END:VCALENDAR
