BEGIN:VCALENDAR
VERSION:2.0
PRODID:-//ChamberMaster//Event Calendar 2.0//EN
METHOD:PUBLISH
X-PUBLISHED-TTL:P3D
REFRESH-INTERVAL:P3D
CALSCALE:GREGORIAN
BEGIN:VEVENT
DTSTART:20231206T233000Z
DTEND:20231207T013000Z
X-MICROSOFT-CDO-ALLDAYEVENT:FALSE
SUMMARY:Auditions for Circophony Teen Circus
DESCRIPTION:Oddfellows Playhouse and ARTFARM announce auditions for Circophony Teen Circus's 18th annual mainstage Circus-Theater production\, "Enjoy the Silence".\n\n\n\nAuditions will be held on Wednesday\, December 6\, 6:30 - 8:30 pm\, at Oddfellows Playhouse\, 128 Washington Street in Middletown. They are open to all young people ages 12 - 20. Prior circus experience is not required\, but some background in physical training\, dance\, movement\, gymnastics\, sports\, parkour or performance can be helpful.\n\n\n\nAuditioners are asked to arrive a few minutes early to complete audition paperwork\, to dress to move\, plan to stay the entire two hours\, and to prepare a short solo act that showcases your skills and personality (one minute maximum). Solos can be based in circus arts\, theater\, movement\, dance\, acrobatics or comedy.\n\n\n\nEveryone who auditions and commits to the rehearsal and production schedule will be cast in the show. Rehearsals will be Tuesdays and Wednesdays\, 6 - 9 pm starting January 2\, 2024. There will be Technical rehearsal & daily rehearsals\, Feb 25 - 28. Performances will be February 29\, March 1 and 2 at 7pm\, as well as March 2 at 2 pm at Oddfellows Playhouse.\n\n\n\nThe new Circophony main stage show will be directed by Circophony Director Allison McDermott\, with additional coaching and act direction by Naja Muller and Joel Melendez. The show will include acrobatics\, movement\, juggling\, balancing\, stilting\, contortion\, unicycling\, roman ladders\, comedy and other circus skills.\n\n\n\nThis is a great opportunity to stretch your personal limits in a supportive\, non-competitive environment\, get serious circus training\, and be part of creating a new and imaginative show.\n\n\n\nTo register for the audition\, or for more information\, call (860) 347-6143 or email info@oddfellows.org.\n\n\n\nTuition for Circophony is $300. Financial aid is available for anyone who needs it. No one is turned away for inability to pay.\n\n\n\nCircophony Teen Circus provides rigorous circus training and performance opportunities to young people\, and is a collaboration between Oddfellows Playhouse and ARTFARM.\n\n\n\nIf you are unable to make the audition date\, please contact info@oddfellows.org to set up an alternative audition date!
X-ALT-DESC;FMTTYPE=text/html:Oddfellows Playhouse and ARTFARM announce auditions for Circophony Teen Circus&rsquo\;s 18th annual mainstage Circus-Theater production\, &ldquo\;Enjoy the Silence&rdquo\;.<br />\n<br />\nAuditions will be held on Wednesday\, December 6\, 6:30 - 8:30 pm\, at Oddfellows Playhouse\, 128 Washington Street in Middletown. They are open to all young people ages 12 - 20. Prior circus experience is not required\, but some background in physical training\, dance\, movement\, gymnastics\, sports\, parkour or performance can be helpful.<br />\n<br />\nAuditioners are asked to arrive a few minutes early to complete audition paperwork\, to dress to move\, plan to stay the entire two hours\, and to prepare a short solo act that showcases your skills and personality (one minute maximum). Solos can be based in circus arts\, theater\, movement\, dance\, acrobatics or comedy.<br />\n<br />\nEveryone who auditions and commits to the rehearsal and production schedule will be cast in the show. Rehearsals will be Tuesdays and Wednesdays\, 6 - 9 pm starting January 2\, 2024. There will be Technical rehearsal &amp\; daily rehearsals\, Feb 25 - 28. Performances will be February 29\, March 1 and 2 at 7pm\, as well as March 2 at 2 pm at Oddfellows Playhouse.<br />\n<br />\nThe new Circophony main stage show will be directed by Circophony Director Allison McDermott\, with additional coaching and act direction by Naja Muller and Joel Melendez. The show will include acrobatics\, movement\, juggling\, balancing\, stilting\, contortion\, unicycling\, roman ladders\, comedy and other circus skills.<br />\n<br />\nThis is a great opportunity to stretch your personal limits in a supportive\, non-competitive environment\, get serious circus training\, and be part of creating a new and imaginative show.<br />\n<br />\nTo register for the audition\, or for more information\, call (860) 347-6143 or email info@oddfellows.org.<br />\n<br />\nTuition for Circophony is $300. Financial aid is available for anyone who needs it. No one is turned away for inability to pay.<br />\n<br />\nCircophony Teen Circus provides rigorous circus training and performance opportunities to young people\, and is a collaboration between Oddfellows Playhouse and ARTFARM.<br />\n<br />\nIf you are unable to make the audition date\, please contact info@oddfellows.org to set up an alternative audition date!
LOCATION:Oddfellows Playhouse 128 Washington Street Middletown
UID:e.1932.28504
SEQUENCE:3
DTSTAMP:20260420T054735Z
URL:https://business.middlesexchamber.com/events/details/auditions-for-circophony-teen-circus-12-06-2023-28504
END:VEVENT

END:VCALENDAR
