BEGIN:VCALENDAR
VERSION:2.0
PRODID:-//ChamberMaster//Event Calendar 2.0//EN
METHOD:PUBLISH
X-PUBLISHED-TTL:P3D
REFRESH-INTERVAL:P3D
CALSCALE:GREGORIAN
BEGIN:VEVENT
DTSTART:20230309T233000Z
DTEND:20230310T020000Z
X-MICROSOFT-CDO-ALLDAYEVENT:FALSE
SUMMARY:Auditions for ages 14 - 20 in Middletown
DESCRIPTION:Auditions are March 6 and 9 in Middletown for actors ages 14 - 20 looking for a powerful and challenging performance experience this spring.\n\nOddfellows Playhouse Teen Repertory Company 2023 announces auditions for "Much Ado About Nothing"\, the classic comedy by William Shakespeare.\n\nAudition dates are March 6 & 9\, 6:30 - 9 pm at Oddfellows Playhouse\, 128 Washington Street\, Middletown.\n \n\nAnyone wishing to audition should:\n\n*Register for one of the two evenings at www.oddfellows.org\n\n*Arrive on time\, dress to move\, and be prepared to stay the entire 2.5 hours\n\n*Open to anyone ages 14 - 20\n\n*Everyone who auditions and commits to the rehearsal and production schedule will be cast.\n \n\nRehearsals begin March 20 and will be Mondays and Thursdays\, 6 - 9 pm. \n\nPerformance dates May 19 - 21 and 27-28.\n\n"Much Ado About Nothing" is a comedy about love\, jealousy\, intrigue\, friendship and loyalty. It offers many engaging and challenging roles. The play will be directed by Playhouse Artistic Director Dic Wheeler.\n\nTuition for Teen Rep is $300. Financial aid or work-study are available for all who need it. Email info@oddfellows.org to register for one of the two auditions\, or call (860) 347-6143 for more information.
X-ALT-DESC;FMTTYPE=text/html:<p><span style="font-family:georgia\; font-size:12pt">Auditions are March 6 and 9 in Middletown for actors ages 14 - 20 looking for a powerful and challenging performance experience this spring.</span></p>\n\n<p><span style="font-family:georgia\; font-size:12pt">Oddfellows Playhouse Teen Repertory Company 2023 announces auditions for&nbsp\;</span><span style="font-family:georgia\; font-size:12pt">&ldquo\;Much Ado About Nothing&quot\;\, the classic comedy by William Shakespeare.</span></p>\n\n<p><span style="font-family:georgia\; font-size:12pt">Audition dates are March 6 &amp\; 9\, 6:30 - 9 pm at Oddfellows Playhouse\, 128 Washington Street\, Middletown.</span></p>\n&nbsp\;\n\n<p><span style="font-family:georgia\; font-size:12pt">Anyone wishing to audition should:</span></p>\n\n<p><span style="font-family:georgia\; font-size:12pt">*Register for one of the two evenings at www.oddfellows.org</span></p>\n\n<p><span style="font-family:georgia\; font-size:12pt">*Arrive on time\, dress to move\, and be prepared to stay the entire 2.5 hours</span></p>\n\n<p><span style="font-family:georgia\; font-size:12pt">*Open to anyone ages 14 - 20</span></p>\n\n<p><span style="font-family:georgia\; font-size:12pt">*Everyone who auditions and commits to the rehearsal and production schedule will be cast.</span></p>\n&nbsp\;\n\n<p><span style="font-family:georgia\; font-size:12pt">Rehearsals begin March 20 and will be Mondays and Thursdays\, 6 - 9 pm.&nbsp\;</span></p>\n\n<p><span style="font-family:georgia\; font-size:12pt">Performance dates May 19 - 21 and 27-28.</span></p>\n\n<p><span style="font-family:georgia\; font-size:12pt">&ldquo\;Much Ado About Nothing&rdquo\; is a comedy about love\, jealousy\, intrigue\, friendship and loyalty. It offers many engaging and challenging roles. The play will be directed by Playhouse Artistic Director Dic Wheeler.</span></p>\n\n<p><span style="font-family:georgia\; font-size:12pt">Tuition for Teen Rep is $300. Financial aid or work-study are available for all who need it. Email info@oddfellows.org to register for one of the two auditions\, or call (860) 347-6143 for more information.</span></p>\n
LOCATION:Oddfellows Playhouse Youth Theater 128 Washington St. Middletown\, CT 06457
UID:e.1932.24850
SEQUENCE:3
DTSTAMP:20260420T165420Z
URL:https://business.middlesexchamber.com/events/details/auditions-for-ages-14-20-in-middletown-03-09-2023-24850
END:VEVENT

END:VCALENDAR
