BEGIN:VCALENDAR
VERSION:2.0
PRODID:-//ChamberMaster//Event Calendar 2.0//EN
METHOD:PUBLISH
X-PUBLISHED-TTL:P3D
REFRESH-INTERVAL:P3D
CALSCALE:GREGORIAN
BEGIN:VEVENT
DTSTART:20251217T160000Z
DTEND:20251217T200000Z
X-MICROSOFT-CDO-ALLDAYEVENT:FALSE
SUMMARY:Ask a Lender: Homebuying & Credit Drop-In Event
DESCRIPTION:Have questions about buying a home or improving your credit?\n\n\n\nStop by anytime between 11 AM and 3 PM or schedule a one-on-one chat with a Chelsea Groton Bank lender.\n\n\n\nWhether you're just exploring your options or ready to take the next step\, we're here to help\, with no obligation to get a loan.\n\n\n\nCome on your lunch break! We'll have food available while you get your questions answered in a relaxed\, friendly setting.\n\n\n\nWalk-ins welcome. Appointments encouraged.\n\n\n\nLet's talk about your financial future\, on your terms.
X-ALT-DESC;FMTTYPE=text/html:<span style="font-size:20px\;"><strong>Have questions about buying a home or improving your credit?</strong><br />\n<br />\nStop by anytime between 11 AM and 3 PM or schedule a one-on-one chat with a Chelsea Groton Bank lender.<br />\n<br />\nWhether you&#39\;re just exploring your options or ready to take the next step\, we&#39\;re here to help\, with no obligation to get a loan.<br />\n<br />\nCome on your lunch break! We&#39\;ll have food available while you get your questions answered in a relaxed\, friendly setting.<br />\n<br />\n<a href="https://cvent.me/aWDaK3">Walk-ins welcome. Appointments encouraged.</a><br />\n<br />\n<strong>Let&rsquo\;s talk about your financial future\, on your terms.</strong></span>
LOCATION:Hartford Public Library Albany Branch 1250 Albany Avenue Hartford\, CT 06112
UID:e.1932.34591
SEQUENCE:3
DTSTAMP:20260424T192150Z
URL:https://business.middlesexchamber.com/events/details/ask-a-lender-homebuying-credit-drop-in-event-12-17-2025-34591
END:VEVENT

END:VCALENDAR
