BEGIN:VCALENDAR
VERSION:2.0
PRODID:-//ChamberMaster//Event Calendar 2.0//EN
METHOD:PUBLISH
X-PUBLISHED-TTL:P3D
REFRESH-INTERVAL:P3D
CALSCALE:GREGORIAN
BEGIN:VEVENT
DTSTART:20230226T190000Z
DTEND:20230226T210000Z
X-MICROSOFT-CDO-ALLDAYEVENT:FALSE
SUMMARY:Aromatherapy Bracelet Making Class
DESCRIPTION:Join Blissfuly by Melissa and Worthy Changes for a fun and crafty afternoon.  Come create your own aromatherapy bracelet or create one for someone special in your life!  \n\n \n\nAromatherapy has long been known to improve one's mood\, increase memory\, and decrease stress in the body.\n\n \n\nThere will be a variety of carefully selected crystal beads\, lava stone beads\, spacers and charms to choose from.  You will also learn about the crystal beads being used and how to tap into their remarkable healing properties.  Essential oils will be available for anyone wishing to infuse their lava beads to intensify the energy of the bracelet made.  \n\n \n\nYour first bracelet is included in the class ticket price.  All additional bracelets made will be $10/piece paid to Blissful by Melissa.
X-ALT-DESC;FMTTYPE=text/html:<p>Join Blissfuly by Melissa and Worthy Changes for a fun and crafty afternoon. &nbsp\;Come create your own aromatherapy bracelet or create one for someone special in your life! &nbsp\;</p>\n\n<p>&nbsp\;</p>\n\n<p>Aromatherapy has long been known to improve one&#39\;s mood\, increase memory\, and decrease stress in the body.</p>\n\n<p>&nbsp\;</p>\n\n<p>There will be a variety of carefully selected crystal beads\, lava stone beads\, spacers and charms to choose from. &nbsp\;You will also learn about the crystal beads being used and how to tap into their remarkable healing properties. &nbsp\;Essential oils will be available for anyone wishing to infuse their lava beads to intensify the energy of the bracelet made. &nbsp\;</p>\n\n<p>&nbsp\;</p>\n\n<p>Your first bracelet is included in the class ticket price. &nbsp\;All additional bracelets made will be $10/piece paid to Blissful by Melissa.</p>\n
LOCATION:Worthy Changes 45 Evans Rd 2nd flr Rocky Hill\, CT
UID:e.1932.24741
SEQUENCE:3
DTSTAMP:20260420T181140Z
URL:https://business.middlesexchamber.com/events/details/aromatherapy-bracelet-making-class-24741
END:VEVENT

END:VCALENDAR
