BEGIN:VCALENDAR
VERSION:2.0
PRODID:-//ChamberMaster//Event Calendar 2.0//EN
METHOD:PUBLISH
X-PUBLISHED-TTL:P3D
REFRESH-INTERVAL:P3D
CALSCALE:GREGORIAN
BEGIN:VEVENT
DTSTART:20211103T210000Z
DTEND:20211104T000000Z
X-MICROSOFT-CDO-ALLDAYEVENT:FALSE
SUMMARY:Annual Awards Dinner
DESCRIPTION:Chairwoman Maureen Westbrook & the Board of Directors\n\ninvite you to join them as we celebrate\n\n \n\nPast Chairmen\n\nDon DeVivo (2019/2020)\n\nTom Byrne (2020/2021)\n\n \n\n2021 Distinguished Citizens Honorees\n\nWilliam Corvo\n\nJacqueline Hubbard\n\nKelly Smith\n\n \n\nSpecial Presentation of the\n\nChief Michael L. Green Award\n\nRecipient: Chief Rob Kronenberger\, Middletown\n\nand\n\n Lorraine C. McHugh Scholarship Award\n\n \n\nPlease R.S.V.P by Friday\, October 22\, 2021\n\nYou will be billed if cancellations are not made two business days prior to the event.
X-ALT-DESC;FMTTYPE=text/html:<p style="text-align: center\;">Chairwoman Maureen Westbrook &amp\; the Board of Directors<br>\ninvite you to join them as we celebrate<br>\n&nbsp\;<br>\n<em>Past Chairmen</em><br>\nDon DeVivo (2019/2020)<br>\nTom Byrne (2020/2021)<br>\n&nbsp\;<br>\n<em>2021 Distinguished Citizens Honorees</em><br>\nWilliam Corvo<br>\nJacqueline Hubbard<br>\nKelly Smith<br>\n&nbsp\;<br>\n<em>Special Presentation of the</em><br>\nChief Michael L. Green Award<br>\nRecipient: Chief Rob Kronenberger\, Middletown<br>\nand<br>\n&nbsp\;Lorraine C. McHugh Scholarship Award<br>\n&nbsp\;<br>\n<em>Please R.S.V.P by Friday\, October 22\, 2021<br>\nYou will be billed if cancellations are not made two business days prior to the event.</em></p>\n\n<p style="text-align: center\;">&nbsp\;</p>\n
LOCATION:Riverhouse at Goodspeed Station 55 Bridge Road Haddam\, CT
UID:e.1932.21475
SEQUENCE:3
DTSTAMP:20260423T082422Z
URL:https://business.middlesexchamber.com/events/details/annual-awards-dinner-10-20-2021-21475
END:VEVENT

END:VCALENDAR
