BEGIN:VCALENDAR
VERSION:2.0
PRODID:-//ChamberMaster//Event Calendar 2.0//EN
METHOD:PUBLISH
X-PUBLISHED-TTL:P3D
REFRESH-INTERVAL:P3D
CALSCALE:GREGORIAN
BEGIN:VEVENT
DTSTART:20260206T150000Z
DTEND:20260206T200000Z
X-MICROSOFT-CDO-ALLDAYEVENT:FALSE
SUMMARY:American Red Cross Blood Drive at Chelsea Groton Bank
DESCRIPTION:Chelsea Groton Bank is rolling up our sleeves and we invite you to join us!\n\n\n\nEach pint of blood collected can help save up to three lives and will touch the lives of so many more.\n\n\n\nSign up for our blood drive with the American Red Cross link.
X-ALT-DESC;FMTTYPE=text/html:<span style="font-size:18px\;"><span style="color: rgb(77\, 78\, 83)\; font-family: roboto\, &quot\;helvetica neue&quot\;\, sans-serif\;">Chelsea Groton Bank is rolling up our sleeves and we invite you to join us!<br />\n<br />\nEach pint of blood collected can help save up to three lives and will touch the lives of so many more.<br />\n<br />\n<a href="https://www.redcrossblood.org/give.html/donation-time?dt=WB:PL:DR:PM&amp\;zipSponsor=06340&amp\;driveType=all">Sign up for our blood drive with the American Red Cross link.</a></span></span>
LOCATION:Chelsea Groton Bank 904 Poquonnock Rd Groton\, CT 06340
UID:e.1932.34718
SEQUENCE:3
DTSTAMP:20260424T171338Z
URL:https://business.middlesexchamber.com/events/details/american-red-cross-blood-drive-at-chelsea-groton-bank-34718
END:VEVENT

END:VCALENDAR
