BEGIN:VCALENDAR
VERSION:2.0
PRODID:-//ChamberMaster//Event Calendar 2.0//EN
METHOD:PUBLISH
X-PUBLISHED-TTL:P3D
REFRESH-INTERVAL:P3D
CALSCALE:GREGORIAN
BEGIN:VEVENT
DTSTART:20211215T220000Z
DTEND:20220217T020000Z
X-MICROSOFT-CDO-ALLDAYEVENT:FALSE
SUMMARY:American Lantern Festival at Lyman Orchards
DESCRIPTION:For Complete Information and to Purchase Tickets: Click Here\n\n\n\nGet ready for an all new attraction to Lyman Orchards! The American Lantern Festival Inc. is bringing hand-crafted life-like masterpieces to deliver an awe-inspiring experience for all ages. Tickets are on sale NOW! This magical experience tells a captivating\, family-friendly story along a half-mile Lantern Pathway.\n\n \n\nAbout American Lantern Festivals at Lyman Orchards:\n\nAmerican Lantern Festivals Inc. is an international\, world-class producer of spectacular\, large-scale light show installations.  American Lantern Festivals specializes in developing unique\, broadly appealing and locally specific shows that have delighted guests across four continents and entertained millions of people of all ages & from all walks of life.\n\n \n\nALF is thrilled to bring the magic of illumination and fantasy to incredible locations around the world. The larger-than-life lantern festivals bring together ancient craftsmanship\, creative storytelling and relevant local references in unique locations that dazzle the senses and bring the night to life!
X-ALT-DESC;FMTTYPE=text/html:<strong>For Complete Information and to Purchase Tickets: <a href="https://lymanorchards.com/events/american-lantern-festivals-at-lyman-orchards/">Click Here</a></strong><br />\n<br />\nGet ready for an all new attraction to Lyman Orchards! The American Lantern Festival Inc. is bringing hand-crafted life-like masterpieces to deliver an awe-inspiring experience for all ages. Tickets are on sale NOW! This magical experience tells a captivating\, family-friendly story along a half-mile Lantern Pathway.<br />\n&nbsp\;<br />\n<strong>About American Lantern Festivals at Lyman Orchards:</strong><br />\nAmerican Lantern Festivals Inc. is an international\, world-class producer of spectacular\, large-scale light show installations.&nbsp\; American Lantern Festivals specializes in developing unique\, broadly appealing and locally specific shows that have delighted guests across four continents and entertained millions of people of all ages &amp\; from all walks of life.<br />\n&nbsp\;<br />\nALF is thrilled to bring the magic of illumination and fantasy to incredible locations around the world. The larger-than-life lantern festivals bring together ancient craftsmanship\, creative storytelling and relevant local references in unique locations that dazzle the senses and bring the night to life!
LOCATION:Lyman Orchards 70 Lyman Road Middlefield\, CT
UID:e.1932.23099
SEQUENCE:3
DTSTAMP:20260421T084115Z
URL:https://business.middlesexchamber.com/events/details/american-lantern-festival-at-lyman-orchards-23099
END:VEVENT

END:VCALENDAR
