BEGIN:VCALENDAR
VERSION:2.0
PRODID:-//ChamberMaster//Event Calendar 2.0//EN
METHOD:PUBLISH
X-PUBLISHED-TTL:P3D
REFRESH-INTERVAL:P3D
CALSCALE:GREGORIAN
BEGIN:VEVENT
DTSTART:20171108T210000Z
DTEND:20171108T220000Z
X-MICROSOFT-CDO-ALLDAYEVENT:FALSE
SUMMARY:Ambassador Roundtable Meeting
DESCRIPTION:
X-ALT-DESC;FMTTYPE=text/html:
LOCATION:The Riverhouse at Goodspeed Station 55 Bridge Road Haddam\, CT
UID:e.1932.4763
SEQUENCE:3
DTSTAMP:20260423T232014Z
URL:https://business.middlesexchamber.com/events/details/ambassador-roundtable-meeting-4763
END:VEVENT

END:VCALENDAR
