BEGIN:VCALENDAR
VERSION:2.0
PRODID:-//ChamberMaster//Event Calendar 2.0//EN
METHOD:PUBLISH
X-PUBLISHED-TTL:P3D
REFRESH-INTERVAL:P3D
CALSCALE:GREGORIAN
BEGIN:VEVENT
DTSTART:20201013T123000Z
DTEND:20201013T133000Z
X-MICROSOFT-CDO-ALLDAYEVENT:FALSE
SUMMARY:Ambassador Program Roundtable
DESCRIPTION:This is a closed meeting.  Please contact Sandra Heinly-Canning or Daniellelee if you have any questions.
X-ALT-DESC;FMTTYPE=text/html:This is a closed meeting.&nbsp\; Please contact Sandra Heinly-Canning or Daniellelee if you have any questions.
LOCATION:Meeting conducted via Zoom.
UID:e.1932.19529
SEQUENCE:3
DTSTAMP:20260421T044244Z
URL:https://business.middlesexchamber.com/events/details/ambassador-program-roundtable-10-13-2020-19529
END:VEVENT

END:VCALENDAR
