BEGIN:VCALENDAR
VERSION:2.0
PRODID:-//ChamberMaster//Event Calendar 2.0//EN
METHOD:PUBLISH
X-PUBLISHED-TTL:P3D
REFRESH-INTERVAL:P3D
CALSCALE:GREGORIAN
BEGIN:VEVENT
DTSTART:20210812T210000Z
DTEND:20210813T000000Z
X-MICROSOFT-CDO-ALLDAYEVENT:FALSE
SUMMARY:Alfresco Thursdays
DESCRIPTION:Essex Board of Trade To Host Alfresco Thursdays July   Sept\, 2021\n\nExperience Essex on Alfresco Thursdays weekly \n\nJuly   September\, 2021!\n\n \n\nESSEX\, CT   Essex Board of Trade (EBOT) is excited to launch its third annual summer of Alfresco Thursdays weekly\, July 1   September 30\, 2021. Dates for this 14-week event are as follows:\n\n	July 1\, 8\, 15\, 22\, 29\n	August 5\, 12\, 19\, 26\n	September 2\, 9\, 16 (Yom Kippur)\, 23\, 30\n\n \n\nEssex Village will once again be hustling and bustling with the robust excitement and electrifying energy of Alfresco Thursdays\, celebrating the summer of 2021 in our picturesque\, river's edge\, small town.\n\n \n\nWith welcoming events planned for the upcoming 14-weeks of beautiful weather\, Essex will be celebrating the freedom of Covid-19 restrictions being lifted allowing the merchants\, community members and visitors to embrace the good times\, partake in the fun\, support local and enjoy all that Essex has to offer with live music\, retail open to 8 p.m.\, specialty menus\, sip and shops\, trunk shows and more. Each Thursday\, throughout the summer\, will be filled with its own unique happenings\, including but not limited to the following:\n\n\n	The Connecticut River Museum's weekly "Thursdays on the Dock" live concert series\, starts July 8\;  https://ctrivermuseum.org/events/\n	Essex Park & Recreation's weekly "Yoga in the Park" July 1 & August 5\, from 5:30 to 6:30 p.m. at the Essex Park https://essexctrecdesk.com  \n	Olive Oyl's will feature its weekly Dinner & Live Music series\n	Outdoor dining will be offered on restaurant patios and docks including the Griswold Inn\, Carlson's Landing\, Siren\, etc.\n	Shops & Galleries will be open until 8:00 p.m.!!!\n\nFor updates and more information on Alfresco Thursdays\, please visit http://essexct.com\, or join us on Facebook and Instragram at ExperienceEssex. \n\n \n\nAbout Essex Board of Trade (EBOT)\n\n \n\nIncorporated in January of 1999\, the EBOT is comprised of business members in Essex Township's three villages   Essex\, Centerbrook and Ivoryton. The EBOT is managed by a volunteer board of directors who are dedicated to promoting a vibrant community for residents\, visitors and businesses to enjoy and thrive in. The EBOT sponsors many of the Essex events that have become beloved community traditions. The organization also decorates the Main Streets of Essex villages to celebrate seasons   American flags for summer\, scarecrows for fall and garland and lights for winter holidays.\n\nFor more information contact:\n\n \n\nJennifer Carlson\n\nAlfresco Thursday's\, Event Coordinator\n\nP. 860-767-8269 x112\n\nE. jcarlson@ctrivermuseum.org\n\n \n\nJoanna Reicher\n\nAlfresco Thursday's\, Event Coordinator\n\nP. 860-490-4731\n\nE. youmeandtheseaessex@gmail.com
X-ALT-DESC;FMTTYPE=text/html:&nbsp\;<br />\n<strong><em><span style="color:#222222"><span style="font-family:arial\,sans-serif"><span style="font-size:14.0pt">Essex Board of Trade To Host Alfresco Thursdays July &ndash\; Sept\, 2021</span></span></span></em></strong><br />\n<em><span style="color:#222222"><span style="font-family:arial\,sans-serif"><span style="font-size:14.0pt">Experience Essex on Alfresco Thursdays weekly&hellip\;</span></span></span></em><br />\n<em><span style="color:#222222"><span style="font-family:arial\,sans-serif"><span style="font-size:14.0pt">July &ndash\; September\, 2021!</span></span></span></em><br />\n&nbsp\;<br />\n<strong><span style="color:#222222"><span style="font-family:arial\,sans-serif">ESSEX\, CT &ndash\; </span></span></strong><span style="color:#222222"><span style="font-family:arial\,sans-serif">Essex Board of Trade (EBOT) is excited to launch its third annual summer of <em>Alfresco Thursdays</em> weekly\, July 1 &ndash\; September 30\, 2021. Dates for this 14-week event are as follows:</span></span>\n<ul>\n	<li><span style="color:#222222"><span style="font-family:arial\,sans-serif">July 1\, 8\, 15\, 22\, 29</span></span></li>\n	<li><span style="color:#222222"><span style="font-family:arial\,sans-serif">August 5\, 12\, 19\, 26</span></span></li>\n	<li><span style="color:#222222"><span style="font-family:arial\,sans-serif">September 2\, 9\, 16 (Yom Kippur)\, 23\, 30</span></span></li>\n</ul>\n&nbsp\;<br />\n<span style="color:#222222"><span style="font-family:arial\,sans-serif">Essex Village will once again be hustling and bustling with the robust excitement and electrifying energy of Alfresco Thursdays\, celebrating the summer of 2021 in our picturesque\, river&rsquo\;s edge\, small town.</span></span><br />\n&nbsp\;<br />\n<span style="color:#222222"><span style="font-family:arial\,sans-serif">With welcoming events planned for the upcoming 14-weeks of beautiful weather\, Essex will be celebrating the freedom of Covid-19 restrictions being lifted allowing the merchants\, community members and visitors to embrace the good times\, partake in the fun\, support local and enjoy all that Essex has to offer with live music\, retail open to 8 p.m.\, specialty menus\, sip and shops\, trunk shows and more. Each Thursday\, throughout the summer\, will be filled with its own unique happenings\, including but not limited to the following:</span></span>\n\n<ul>\n	<li><span style="color:black"><span style="font-family:arial\,sans-serif">The Connecticut River Museum&#39\;s weekly &quot\;Thursdays on the Dock&quot\; live concert series\, starts July 8\; &nbsp\;</span></span><a href="about:blank"><span style="font-family:arial\,sans-serif">https://ctrivermuseum.org/events/</span></a></li>\n	<li><span style="color:black"><span style="font-family:arial\,sans-serif">Essex Park &amp\; Recreation&#39\;s weekly &quot\;Yoga in the Park&quot\; July 1 &amp\; August 5\, from 5:30 to 6:30 p.m. at the Essex Park </span></span><a href="about:blank"><span style="font-family:arial\,sans-serif">https://essexctrecdesk.com</span></a> &nbsp\;</li>\n	<li><span style="color:black"><span style="font-family:arial\,sans-serif">Olive&nbsp\;Oyl&rsquo\;s will feature its weekly Dinner &amp\; Live Music series</span></span></li>\n	<li><span style="color:black"><span style="font-family:arial\,sans-serif">Outdoor dining will be offered on restaurant patios and docks including the Griswold Inn\, Carlson&rsquo\;s Landing\, Siren\, etc.</span></span></li>\n	<li><span style="color:black"><span style="font-family:arial\,sans-serif">Shops &amp\; Galleries will be open until 8:00 p.m.!!!</span></span></li>\n</ul>\n<span style="color:#222222"><span style="font-family:arial\,sans-serif">For updates and more information on Alfresco Thursdays\, please visit </span></span><a href="about:blank"><span style="font-family:arial\,sans-serif">http://essexct.com</span></a><span style="color:#222222"><span style="font-family:arial\,sans-serif">\, or join us on Facebook and Instragram at ExperienceEssex. </span></span><br />\n&nbsp\;<br />\n<strong><span style="color:#222222"><span style="font-family:arial\,sans-serif">About Essex Board of Trade (EBOT)</span></span></strong><br />\n&nbsp\;<br />\n<span style="color:#222222"><span style="font-family:arial\,sans-serif">Incorporated in January of 1999\, the EBOT is comprised of business members in Essex Township&rsquo\;s three villages &ndash\; Essex\, Centerbrook and Ivoryton. The EBOT is managed by a volunteer board of directors who are dedicated to promoting a vibrant community for residents\, visitors and businesses to enjoy and thrive in. The EBOT sponsors many of the Essex events that have become beloved community traditions. The organization also decorates the Main Streets of Essex villages to celebrate seasons &ndash\; American flags for summer\, scarecrows for fall and garland and lights for winter holidays.</span></span><br />\n<span style="color:#222222"><span style="font-family:arial\,sans-serif">For more information contact:</span></span><br />\n&nbsp\;<br />\n<strong><span style="color:#1F4E79"><span style="font-family:arial\,sans-serif">Jennifer Carlson</span></span></strong><br />\n<strong><span style="color:#DA1F0D"><span style="font-family:arial\,sans-serif">Alfresco Thursday&#39\;s\, Event Coordinator</span></span></strong><br />\n<span style="font-family:arial\,sans-serif">P. 860-767-8269 x112</span><br />\n<span style="font-family:arial\,sans-serif">E. jcarlson@ctrivermuseum.org</span><br />\n&nbsp\;<br />\n<strong><span style="color:#1F4E79"><span style="font-family:arial\,sans-serif">Joanna Reicher</span></span></strong><br />\n<strong><span style="color:#DA1F0D"><span style="font-family:arial\,sans-serif">Alfresco Thursday&#39\;s\, Event Coordinator</span></span></strong><br />\n<span style="font-family:arial\,sans-serif">P. 860-490-4731</span><br />\n<span style="font-family:arial\,sans-serif">E. youmeandtheseaessex@gmail.com</span>
LOCATION:
UID:e.1932.21840
SEQUENCE:3
DTSTAMP:20260423T105052Z
URL:https://business.middlesexchamber.com/events/details/alfresco-thursdays-08-12-2021-21840
END:VEVENT

END:VCALENDAR
