BEGIN:VCALENDAR
VERSION:2.0
PRODID:-//ChamberMaster//Event Calendar 2.0//EN
METHOD:PUBLISH
X-PUBLISHED-TTL:P3D
REFRESH-INTERVAL:P3D
CALSCALE:GREGORIAN
BEGIN:VEVENT
DTSTART:20211205T210000Z
DTEND:20211205T223000Z
X-MICROSOFT-CDO-ALLDAYEVENT:FALSE
SUMMARY:Ahavah: The Story of Christmas
DESCRIPTION:Ekklesia Contemporary Ballet is excited to bring Ahavah to the Middletown community.\n\n\n\nTaking you back in time to experience Christmas in a whole new way. Your entire family will be exhilarated by the spirit of Christmas!\n\n\n\nAll profits from the ballet will be donated to St. Vincent de Paul soup kitchen!
X-ALT-DESC;FMTTYPE=text/html:Ekklesia Contemporary Ballet is excited to bring Ahavah to the Middletown community.<br />\n<br />\nTaking you back in time to experience Christmas in a whole new way. Your entire family will be exhilarated by the spirit of Christmas!<br />\n<br />\nAll profits from the ballet will be donated to St. Vincent de Paul soup kitchen!
LOCATION:Middletown High School 200 La Rosa Lane Middletown\, CT
UID:e.1932.22359
SEQUENCE:3
DTSTAMP:20260421T084437Z
URL:https://business.middlesexchamber.com/events/details/ahavah-the-story-of-christmas-12-05-2021-22359
END:VEVENT

END:VCALENDAR
