BEGIN:VCALENDAR
VERSION:2.0
PRODID:-//ChamberMaster//Event Calendar 2.0//EN
METHOD:PUBLISH
X-PUBLISHED-TTL:P3D
REFRESH-INTERVAL:P3D
CALSCALE:GREGORIAN
BEGIN:VEVENT
DTSTART:20231203T180000Z
DTEND:20231203T200000Z
X-MICROSOFT-CDO-ALLDAYEVENT:FALSE
SUMMARY:Ahavah: The Story of Christmas
DESCRIPTION:Ahavah tells a story of hope in the midst of despair. An imaginative retelling of the story of Jesus? birth\, running for 18 years\, is now becoming a local Christmas tradition. Ahavah explores the mystery of Christmas\, demonstrating how love can shine brightly even in the darkest of times.\n\n\n\nA magical show for the whole family that will surely lift your spirit! This year's Ahavah has been revised with new scenes and a fresh perspective on the familiar story\, adding an exciting dimension to the beloved narrative.\n\n\n\nTicket Link:  CLICK HERE!\n\nhttps://27661.danceticketing.com/r/events/
X-ALT-DESC;FMTTYPE=text/html:<span style="font-size:18px\;"><span style="font-family:arial\;">Ahavah tells a story of hope in the midst of despair. An imaginative retelling of the story of Jesus? birth\, running for 18 years\, is now becoming a local Christmas tradition. Ahavah explores the mystery of Christmas\, demonstrating how love can shine brightly even in the darkest of times.<br />\n<br />\nA magical show for the whole family that will surely lift your spirit! This year&#39\;s Ahavah has been revised with new scenes and a fresh perspective on the familiar story\, adding an exciting dimension to the beloved narrative.<br />\n<br />\nTicket Link:&nbsp\;<a href="https://27661.danceticketing.com/r/events/"> <strong>CLICK HERE!</strong></a><br />\nhttps://27661.danceticketing.com/r/events/</span></span>
LOCATION:Middletown High School 200 La Rosa Lane Middletown\, CT 06457
UID:e.1932.28490
SEQUENCE:3
DTSTAMP:20260420T054710Z
URL:https://business.middlesexchamber.com/events/details/ahavah-the-story-of-christmas-12-03-2023-28490
END:VEVENT

END:VCALENDAR
