BEGIN:VCALENDAR
VERSION:2.0
PRODID:-//ChamberMaster//Event Calendar 2.0//EN
METHOD:PUBLISH
X-PUBLISHED-TTL:P3D
REFRESH-INTERVAL:P3D
CALSCALE:GREGORIAN
BEGIN:VEVENT
DTSTART:20221203T180000Z
DTEND:20221203T200000Z
X-MICROSOFT-CDO-ALLDAYEVENT:FALSE
SUMMARY:Ahavah: The Story of Christmas
DESCRIPTION:This year is the 17th annual performance of Ahavah: The Story of Christmas. We would love for you to join us as we bring this production to Middletown for a second time!\n\n\n\nOver the past seven years\, proceeds from Ahavah have allowed Ekklesia to donate over $40\,000 to local soup kitchens. All of the profits from this year's production will be donated to St. Vincent de Paul of Middletown.\n\n\n\nThe word Ahavah means "love" in Hebrew. The Ahavah production uses world-class dancing\, acting\, music\, and projections to tell the story of Christmas through the eyes of a homeless girl. A mysterious book takes her on a remarkable adventure traveling back in time to experience the story of Christmas. She travels through faraway lands and witnesses meaningful moments in history\, seeing humanity at its most beautiful\, its most cruel\, and its most vulnerable. Through her journey she discovers that she is never alone and that she is always loved. This sensational show is a sure way to kickstart the Christmas spirit of generosity and love for all.\n\n\n\nThe entire family will be exhilarated and inspired by this moving and engaging story!\n\n\n\nThe venue is following the CDC guidelines.
X-ALT-DESC;FMTTYPE=text/html:This year is the 17th annual performance of Ahavah: The Story of Christmas. We would love for you to join us as we bring this production to Middletown for a second time!<br />\n<br />\nOver the past seven years\, proceeds from Ahavah have allowed Ekklesia to donate over $40\,000 to local soup kitchens. All of the profits from this year&rsquo\;s production will be donated to St. Vincent de Paul of Middletown.<br />\n<br />\nThe word Ahavah means &ldquo\;love&rdquo\; in Hebrew. The Ahavah production uses world-class dancing\, acting\, music\, and projections to tell the story of Christmas through the eyes of a homeless girl. A mysterious book takes her on a remarkable adventure traveling back in time to experience the story of Christmas. She travels through faraway lands and witnesses meaningful moments in history\, seeing humanity at its most beautiful\, its most cruel\, and its most vulnerable. Through her journey she discovers that she is never alone and that she is always loved. This sensational show is a sure way to kickstart the Christmas spirit of generosity and love for all.<br />\n<br />\nThe entire family will be exhilarated and inspired by this moving and engaging story!<br />\n<br />\nThe venue is following the CDC guidelines.
LOCATION:The Middletown High School\, Santo Fragilio Performing Arts Center 200 LaRosa Lane Middletown\, CT
UID:e.1932.24016
SEQUENCE:3
DTSTAMP:20260420T221301Z
URL:https://business.middlesexchamber.com/events/details/ahavah-the-story-of-christmas-12-03-2022-24016
END:VEVENT

END:VCALENDAR
