BEGIN:VCALENDAR
VERSION:2.0
PRODID:-//ChamberMaster//Event Calendar 2.0//EN
METHOD:PUBLISH
X-PUBLISHED-TTL:P3D
REFRESH-INTERVAL:P3D
CALSCALE:GREGORIAN
BEGIN:VEVENT
DTSTART:20230419T223000Z
DTEND:20230419T233000Z
X-MICROSOFT-CDO-ALLDAYEVENT:FALSE
SUMMARY:Aging Well: Optimizing Osteoporosis and Pelvic Health
DESCRIPTION:Join Gaylord Physical Therapy and Centrality Physical Therapy as they discuss how to optimize osteoporosis and pelvic health.\n\n\n\nThe discussion will include:\n\n  The benefits of strength training in managing pelvic floor conditions and osteoporosis\n\n  What is a pelvic health rehab provider & what kinds of conditions can benefit from interventions\; how does this change with age?\n\n  The anatomy of the pelvic floor & the relationship with the lower extremity\n\n  Who is impacted by osteoporosis?\n\n  Functional ways to test your strength
X-ALT-DESC;FMTTYPE=text/html:Join Gaylord Physical Therapy and Centrality Physical Therapy as they discuss how to optimize osteoporosis and pelvic health.<br />\n<br />\nThe discussion will include:<br />\n&bull\; The benefits of strength training in managing pelvic floor conditions and osteoporosis<br />\n&bull\; What is a pelvic health rehab provider &amp\; what kinds of conditions can benefit from interventions\; how does this change with age?<br />\n&bull\; The anatomy of the pelvic floor &amp\; the relationship with the lower extremity<br />\n&bull\; Who is impacted by osteoporosis?<br />\n&bull\; Functional ways to test your strength
LOCATION:Gaylord Physical Therapy 28 Durham Road Madison\, CT 06443
UID:e.1932.25197
SEQUENCE:3
DTSTAMP:20260420T153607Z
URL:https://business.middlesexchamber.com/events/details/aging-well-optimizing-osteoporosis-and-pelvic-health-25197
END:VEVENT

END:VCALENDAR
