BEGIN:VCALENDAR
VERSION:2.0
PRODID:-//ChamberMaster//Event Calendar 2.0//EN
METHOD:PUBLISH
X-PUBLISHED-TTL:P3D
REFRESH-INTERVAL:P3D
CALSCALE:GREGORIAN
BEGIN:VEVENT
DTSTART:20250811T193000Z
DTEND:20250811T203000Z
X-MICROSOFT-CDO-ALLDAYEVENT:FALSE
SUMMARY:Aging In Place Talk at Noble Care\, Rocky Hill
DESCRIPTION:A Talk Designed To Help Family Members Navigate:\n\nFinancial planning and preparation\n\nMaintaining health and wellbeing\n\nHome modifications and safety\n\nBuilding a support system\n\nPlanning for the future\n\n\n\nPresented By Pansy Homecare & Hosted By Noble Care\, LLC
X-ALT-DESC;FMTTYPE=text/html:<span style="font-size:18px\;"><span style="font-family:arial\;">A Talk Designed To Help Family Members Navigate:<br />\nFinancial planning and preparation<br />\nMaintaining health and wellbeing<br />\nHome modifications and safety<br />\nBuilding a support system<br />\nPlanning for the future<br />\n<br />\nPresented By Pansy Homecare &amp\; Hosted By Noble Care\, LLC</span></span>
LOCATION:Noble Care\, LLC 5 Elm Street Rocky Hill\, CT (06067)
UID:e.1932.32692
SEQUENCE:3
DTSTAMP:20260425T000415Z
URL:https://business.middlesexchamber.com/events/details/aging-in-place-talk-at-noble-care-rocky-hill-32692
END:VEVENT

END:VCALENDAR
