BEGIN:VCALENDAR
VERSION:2.0
PRODID:-//ChamberMaster//Event Calendar 2.0//EN
METHOD:PUBLISH
X-PUBLISHED-TTL:P3D
REFRESH-INTERVAL:P3D
CALSCALE:GREGORIAN
BEGIN:VEVENT
DTSTART:20251104T140000Z
DTEND:20251104T150000Z
X-MICROSOFT-CDO-ALLDAYEVENT:FALSE
SUMMARY:Affordable Housing Committee
DESCRIPTION:The Affordable Housing Committee was created to provide a voice for the business community in the important housing based conversations in Middlesex County. The committee includes developers\, lenders\, realtors\, non-profit liaisons\, attorneys and other professionals. The committee will continue to work with other key stakeholders in Middlesex County to stress housing as an economic driver\, and to be a resource to the chamber at large on housing related issues.\n\n \n\nThis committee is an open committee! If you would like more information on how you can get involved please contact Chris Cambareri.
X-ALT-DESC;FMTTYPE=text/html:The Affordable Housing Committee was created to provide a voice for the business community in the important housing based conversations in Middlesex County. The committee includes developers\, lenders\, realtors\, non-profit liaisons\, attorneys and other professionals. The committee will continue to work with other key stakeholders in Middlesex County to stress housing as an economic driver\, and to be a resource to the chamber at large on housing related issues.<br />\n&nbsp\;<br />\nThis committee is an open committee! If you would like more information on how you can get involved please contact Chris Cambareri.
LOCATION:Middlesex Chamber 318 High Street Middletown\, CT or join via Zoom
UID:e.1932.30457
SEQUENCE:3
DTSTAMP:20260424T202515Z
URL:https://business.middlesexchamber.com/events/details/affordable-housing-committee-11-21-2025-30457
END:VEVENT

END:VCALENDAR
