BEGIN:VCALENDAR
VERSION:2.0
PRODID:-//ChamberMaster//Event Calendar 2.0//EN
METHOD:PUBLISH
X-PUBLISHED-TTL:P3D
REFRESH-INTERVAL:P3D
CALSCALE:GREGORIAN
BEGIN:VEVENT
DTSTART;VALUE=DATE:20220430
DTEND;VALUE=DATE:20220501
TRANSP:TRANSPARENT
X-MICROSOFT-CDO-ALLDAYEVENT:TRUE
SUMMARY:A MARC Masquerade
DESCRIPTION:MARC Community Resources is excited to hold its premier annual fundraiser at the historic Saint Clements Castle in Portland\, CT. The tasting event features over 15 wine\, beer and spirit distributors as well as passed hors d'oeuvres and food stations.  A silent auction and raffle will also take place.\n\n\n\nFunds raised support essential programs and services that are either unfunded or underfunded yet provide essential support to people with intellectual and developmental disabilities.\n\nMARC is grateful for the support of our lead sponsors: Liberty Bank\, A.R. Mazzotta Employment Specialists and Fusion Cable.\n\n\n\nPlease contact Lori Lodge at 860-342-0700 for more information.\n\nTickets are $65.00 per person.  To purchase tickets\, please visit: https://www.marccommunityresources.org/a-marc-masquerade.  Tickets will be $65/pp in advance and $70/pp at the door.
X-ALT-DESC;FMTTYPE=text/html:<span style="color:rgb(5\, 5\, 5)\; font-family:segoe ui historic\,segoe ui\,helvetica\,arial\,sans-serif\; font-size:15px">MARC Community Resources is excited to hold its premier annual fundraiser at the historic Saint&nbsp\;</span><span style="color:rgb(5\, 5\, 5)\; font-family:segoe ui historic\,segoe ui\,helvetica\,arial\,sans-serif\; font-size:15px">Clements Castle in Portland\, CT. The tasting event features over 15 wine\, beer and spirit distributors as well as passed hors d&#39\;oeuvres and food stations.&nbsp\; A silent auction and raffle will also take place.</span><br />\n<br />\n<span style="color:rgb(5\, 5\, 5)\; font-family:segoe ui historic\,segoe ui\,helvetica\,arial\,sans-serif\; font-size:15px">Funds raised support essential programs and services that are either unfunded or underfunded yet provide essential support to people with intellectual and developmental disabilities.</span><br />\n<span style="color:rgb(5\, 5\, 5)\; font-family:segoe ui historic\,segoe ui\,helvetica\,arial\,sans-serif\; font-size:15px">MARC is grateful for the support of our lead sponsors: Liberty Bank\, A.R. Mazzotta Employment Specialists and Fusion Cable.</span><br />\n<br />\n<span style="color:rgb(5\, 5\, 5)\; font-family:segoe ui historic\,segoe ui\,helvetica\,arial\,sans-serif\; font-size:15px">Please contact Lori Lodge at 860-342-0700 for more information.</span><br />\n<span style="color:rgb(5\, 5\, 5)\; font-family:segoe ui historic\,segoe ui\,helvetica\,arial\,sans-serif\; font-size:15px">Tickets are $65.00 per person.&nbsp\; To purchase tickets\, please visit:&nbsp\;</span><a class="oajrlxb2 g5ia77u1 qu0x051f esr5mh6w e9989ue4 r7d6kgcz rq0escxv nhd2j8a9 nc684nl6 p7hjln8o kvgmc6g5 cxmmr5t8 oygrvhab hcukyx3x jb3vyjys rz4wbd8a qt6c0cv9 a8nywdso i1ao9s8h esuyzwwr f1sip0of lzcic4wl gpro0wi8 py34i1dx" href="https://www.marccommunityresources.org/a-marc-masquerade?fbclid=IwAR3Jw8JLpSyRggW37mu6DDK9nsu3L9gCIgG3wpkFwZ6RE1ZrYMcJOOklDiI" rel="nofollow noopener" style="color: var(--blue-link)\; cursor: pointer\; text-decoration-line: none\; outline: none\; list-style: none\; border-width: 0px\; border-style: initial\; border-color: initial\; padding: 0px\; margin: 0px\; touch-action: manipulation\; display: inline\; -webkit-tap-highlight-color: transparent\; box-sizing: border-box\; font-family: &quot\;Segoe UI Historic&quot\;\, &quot\;Segoe UI&quot\;\, Helvetica\, Arial\, sans-serif\; font-size: 15px\;" tabindex="0" target="_blank">https://www.marccommunityresources.org/a-marc-masquerade</a>.&nbsp\;&nbsp\;<span style="color:rgb(5\, 5\, 5)\; font-family:segoe ui historic\,segoe ui\,helvetica\,arial\,sans-serif\; font-size:15px">Tickets will be $65/pp in advance and $70/pp at the door.</span>
LOCATION:Saint Clements Castle
UID:e.1932.23615
SEQUENCE:3
DTSTAMP:20260423T082125Z
URL:https://business.middlesexchamber.com/events/details/a-marc-masquerade-23615
END:VEVENT

END:VCALENDAR
