BEGIN:VCALENDAR
VERSION:2.0
PRODID:-//ChamberMaster//Event Calendar 2.0//EN
METHOD:PUBLISH
X-PUBLISHED-TTL:P3D
REFRESH-INTERVAL:P3D
CALSCALE:GREGORIAN
BEGIN:VEVENT
DTSTART:20231212T213000Z
DTEND:20231212T230000Z
X-MICROSOFT-CDO-ALLDAYEVENT:FALSE
SUMMARY:A Holiday Nightmare Mini-production for ages 6 - 14
DESCRIPTION:Oddfellows Playhouse Youth Theater announces a special Oddbridge Mini-Production\,  A Holiday Nightmare\, inspired by the poem The Nightmare Before Christmas by Tim Burton. This is a 3 week theater adventure for kids ages 6 to 14\, with transportation provided directly from Middletown Public Schools (drop off option available for home schoolers or students from other school districts)\, culminating in two public performances in the theater at Oddfellows.\n\nA Holiday Nightmare will be November 27th - December 14th \, Monday through Thursday\, 3:15 - 6 pm (11 days)\, with performances on Thursday\, December 14th and Friday\, December 15th at 6 pm. Rehearsals and performance will all take place at Oddfellows Playhouse\, 128 Washington Street\, Middletown.\n\nOddbridge is Oddfellows Playhouse?s after-school extended-day option for Middletown Public Schools\, providing transportation directly from school to Oddfellows\, snack and supervised recreation before classes begin. \n\nDaily schedule: 3:15 - 3:45 pm Middle School students (grades 6 - 8) arrive on bus from Beman School (or get dropped off). Snacks\, games\, relaxation.\n\n3:45 - 4:45 pm - Rehearsal for Middle Schoolers only.\n\n4 - 4:30 Elementary School buses arrive (or drop off). Snack\, games\, settle in.\n\n4:30 - 5:50 pm - Rehearsal for Middle School and Elementary School students.\n\n5:50 pm Closing Circle\, collect belongings\, parent pickup by 6 pm.\n\nTuition for the 11 day program is $250 and includes transport from Middletown Public Elementary or Middle Schools\, snack and supervised recreation\, participation in rehearsals and performances ($200 for drop-off students.) Financial Aid is available for all who need it.\n\n A Holiday Nightmare\, inspired by the poem The Nightmare Before Christmas by Tim Burton\, tells the story of Jack Skellington\, the Pumpkin King of Halloweenland. After years of the same spooky routine\, Jack has grown bored of "the scaring\, the terror\, the fright...tired of being something that goes bump in the night". But when Jack accidentally discovers Christmas Town\, he devises a plan to kidnap ?Sandy Claws? and take over a new holiday! Only after his plans for a ?Scary Christmas? go wrong does Jack learn the true meaning of the holiday season.\n\nEnrollment is limited and is on a first-come\, first-served basis. To register for A Holiday Nightmare\, go to https://oddfellows.recdesk.com/Community/Program. For more information\, contact info@oddfellows.org or call (860) 347-6143. Extended Oddbridge is made possible by the City of Middletown\, The Fund for Greater Hartford and the Liberty Bank Foundation.
X-ALT-DESC;FMTTYPE=text/html:<p><span style="background-color:transparent\; color:rgb(0\, 0\, 0)\; font-family:georgia\,serif\; font-size:12pt">Oddfellows Playhouse Youth Theater announces a special Oddbridge Mini-Production\,&nbsp\; </span><em>A Holiday Nightmare\, </em><span style="background-color:transparent\; color:rgb(0\, 0\, 0)\; font-family:georgia\,serif\; font-size:12pt">inspired by the poem </span><em>The Nightmare Before Christmas</em><span style="background-color:transparent\; color:rgb(0\, 0\, 0)\; font-family:georgia\,serif\; font-size:12pt"> by Tim Burton. This is a 3 week theater adventure for kids ages 6 to 14\, with transportation provided directly from Middletown Public Schools (drop off option available for home schoolers or students from other school districts)\, culminating in two public performances in the theater at Oddfellows.</span></p>\n\n<p><em>A Holiday Nightmare </em><span style="background-color:transparent\; color:rgb(0\, 0\, 0)\; font-family:georgia\,serif\; font-size:12pt">will be November 27th - December 14th \, Monday through Thursday\, 3:15 - 6 pm (11 days)\, with performances on Thursday\, December 14th and Friday\, December 15th at 6 pm. Rehearsals and performance will all take place at Oddfellows Playhouse\, 128 Washington Street\, Middletown.</span></p>\n\n<p><span style="background-color:transparent\; color:rgb(0\, 0\, 0)\; font-family:georgia\,serif\; font-size:12pt">Oddbridge is Oddfellows Playhouse?s after-school extended-day option for Middletown Public Schools\, providing transportation directly from school to Oddfellows\, snack and supervised recreation before classes begin.&nbsp\;</span></p>\n\n<p><span style="background-color:transparent\; color:rgb(0\, 0\, 0)\; font-family:georgia\,serif\; font-size:12pt">Daily schedule: 3:15 - 3:45 pm Middle School students (grades 6 - 8) arrive on bus from Beman School (or get dropped off). Snacks\, games\, relaxation.</span></p>\n\n<p><span style="background-color:transparent\; color:rgb(0\, 0\, 0)\; font-family:georgia\,serif\; font-size:12pt">3:45 - 4:45 pm - Rehearsal for Middle Schoolers only.</span></p>\n\n<p><span style="background-color:transparent\; color:rgb(0\, 0\, 0)\; font-family:georgia\,serif\; font-size:12pt">4 - 4:30 Elementary School buses arrive (or drop off). Snack\, games\, settle in.</span></p>\n\n<p><span style="background-color:transparent\; color:rgb(0\, 0\, 0)\; font-family:georgia\,serif\; font-size:12pt">4:30 - 5:50 pm - Rehearsal for Middle School and Elementary School students.</span></p>\n\n<p><span style="background-color:transparent\; color:rgb(0\, 0\, 0)\; font-family:georgia\,serif\; font-size:12pt">5:50 pm Closing Circle\, collect belongings\, parent pickup by 6 pm.</span></p>\n\n<p><span style="background-color:transparent\; color:rgb(0\, 0\, 0)\; font-family:georgia\,serif\; font-size:12pt">Tuition for the 11 day program is $250 and includes transport from Middletown Public Elementary or Middle Schools\, snack and supervised recreation\, participation in rehearsals and performances ($200 for drop-off students.) Financial Aid is available for all who need it.</span></p>\n\n<p><span style="background-color:transparent\; color:rgb(0\, 0\, 0)\; font-family:georgia\,serif\; font-size:12pt">&nbsp\;</span><em>A Holiday Nightmare\, </em><span style="background-color:transparent\; color:rgb(0\, 0\, 0)\; font-family:georgia\,serif\; font-size:12pt">inspired by the poem </span><em>The Nightmare Before Christmas</em><span style="background-color:transparent\; color:rgb(0\, 0\, 0)\; font-family:georgia\,serif\; font-size:12pt"> by Tim Burton\, tells the story of J</span><span style="color:rgb(0\, 0\, 0)\; font-family:georgia\,serif\; font-size:12pt">ack Skellington\, the Pumpkin King of Halloweenland. After years of the same spooky routine\, Jack has grown bored of &quot\;the scaring\, the terror\, the fright...tired of being something that goes bump in the night&quot\;. But when Jack accidentally discovers Christmas Town\, he devises a plan to kidnap ?Sandy Claws? and take over a new holiday! Only after his plans for a ?Scary Christmas? go wrong does Jack learn the true meaning of the holiday season.</span></p>\n\n<p><span style="background-color:transparent\; color:rgb(0\, 0\, 0)\; font-family:georgia\,serif\; font-size:12pt">Enrollment is limited and is on a first-come\, first-served basis. To register for </span><em>A Holiday Nightmare</em><span style="background-color:transparent\; color:rgb(0\, 0\, 0)\; font-family:georgia\,serif\; font-size:12pt">\, go to </span><a href="https://oddfellows.recdesk.com/Community/Program" style="text-decoration-line: none\;"><span style="background-color:transparent\; color:rgb(17\, 85\, 204)\; font-family:georgia\,serif\; font-size:12pt">https://oddfellows.recdesk.com/Community/Program</span></a><span style="background-color:transparent\; color:rgb(0\, 0\, 0)\; font-family:georgia\,serif\; font-size:12pt">. For more information\, contact </span><a href="mailto:info@oddfellows.org" style="text-decoration-line: none\;"><span style="background-color:transparent\; color:rgb(17\, 85\, 204)\; font-family:georgia\,serif\; font-size:12pt">info@oddfellows.org</span></a><span style="background-color:transparent\; color:rgb(0\, 0\, 0)\; font-family:georgia\,serif\; font-size:12pt"> or call (860) 347-6143. Extended Oddbridge is made possible by the City of Middletown\, The Fund for Greater Hartford and the Liberty Bank Foundation.</span></p>\n\n<div>&nbsp\;</div>\n
LOCATION:Oddfellows Playhouse 128 Washington Street Middletown\, CT 06457
UID:e.1932.26796
SEQUENCE:3
DTSTAMP:20260420T054634Z
URL:https://business.middlesexchamber.com/events/details/a-holiday-nightmare-mini-production-for-ages-6-14-12-12-2023-26796
END:VEVENT

END:VCALENDAR
