BEGIN:VCALENDAR
VERSION:2.0
PRODID:-//ChamberMaster//Event Calendar 2.0//EN
METHOD:PUBLISH
X-PUBLISHED-TTL:P3D
REFRESH-INTERVAL:P3D
CALSCALE:GREGORIAN
BEGIN:VEVENT
DTSTART:20221022T183000Z
DTEND:20221022T200000Z
X-MICROSOFT-CDO-ALLDAYEVENT:FALSE
SUMMARY:5th Annual Dancing From the Heart
DESCRIPTION:The Dance Corner Brings Connecticut Dancers Together for a Benefit Concert\n\n \n\nKillingworth\, CT   The Dance Corner presents the 5th annual Dancing From the Heart\, a concert to benefit Child Life at Yale New Haven Children's hospital at 2:30pm on Saturday\, October 22\, 2022 at the Clinton Town Hall Auditorium\, 54 East Main St\, Clinton. \n\n \n\nThe show will feature performances from Connecticut dance companies including\, Ballet Hartford\, River Valley Dance Project\, and Moxie Dance.  Students from The Dance Corner will also perform.  All proceeds from the concert will be donated to the Child Life Department at Yale New Haven Children's Hospital.  \n\n \n\nChild Life at Yale New Haven Children's Hospital helps children cope with the adjustments of being in a hospital by providing a variety of play experiences. These activities help both children and families gain a greater understanding of medical procedures\, which helps reduce stress and fear of the unknown. Money raised by this concert will directly benefit pediatric patients at Yale.\n\n \n\nCarrie Smith\, director of The Dance Corner said\, "It has been a long-time dream of mine to bring professional and student dancers from our community together for a performance to benefit those in need.  Part of our mission at The Dance Corner is to promote dance in our community and to give back. This event does both. Since 2017 this event has raised more than $8000 for the Child Life Fund.  We hope to hit $10\,000 this year."\n\n \n\nTickets to the Dancing From the Heart show are $15 for adults and $10 for students and seniors. Tickets can be purchased in advance at The Dance Corner\, 206 Route 80\, Killingworth or at the door. The program should run around 1 hour.\n\n \n\nThe Dance Corner is dedicated to providing its students with a well-rounded education in all facets of dance and tumbling. Classes are designed to increase confidence\, build self-esteem and develop coordination in an interactive\, group environment. With instruction for all ages and levels of experience. Fall class registration is open\, and free trial classes are available for prospective students. To register or schedule a trial class visit TheDanceCorner.com.\n\n \n\nConveniently located on Route 80 in Killingworth\, The Dance Corner is easily accessible from the towns of Madison\, Clinton\, Deep River\, Chester\, Essex\, Ivoryton\, Centerbrook\, Haddam\, Higganum\, Westbrook\, Guilford and East Haddam. \n\n \n\nFurther information on The Dance Corner is available at www.thedancecorner.com.  \n\n \n\nFor photos and all press requests please contact Carrie Smith at mailto:misscarrie@thedancecorner.com.
X-ALT-DESC;FMTTYPE=text/html:<strong><span style="color:black\;"><span style="font-family:times new roman\,serif\;"><span style="font-size:14.0pt\;">The Dance Corner Brings Connecticut Dancers Together for a Benefit Concert</span></span></span></strong><br />\n&nbsp\;<br />\n<span style="color:black\;"><span style="font-family:times new roman\,serif\;">Killingworth\, CT &ndash\; The Dance Corner presents the 5</span></span><sup><span style="color:black\;"><span style="font-family:times new roman\,serif\;"><span style="font-size:6.5pt\;">th</span></span></span></sup><span style="color:black\;"><span style="font-family:times new roman\,serif\;"> annual Dancing From the Heart\, a concert to benefit Child Life at Yale New Haven Children&rsquo\;s hospital at 2:30pm on Saturday\, October 22\, 2022 at the Clinton Town Hall Auditorium\, 54 East Main St\, Clinton.&nbsp\;</span></span><br />\n&nbsp\;<br />\n<span style="color:black\;"><span style="font-family:times new roman\,serif\;">The show will feature performances from Connecticut dance companies including\, Ballet Hartford\, River Valley Dance Project\, and Moxie Dance.&nbsp\; Students from The Dance Corner will also perform.&nbsp\; All proceeds from the concert will be donated to the Child Life Department at Yale New Haven Children&rsquo\;s Hospital.&nbsp\;&nbsp\;</span></span><br />\n&nbsp\;<br />\n<span style="color:black\;"><span style="font-family:times new roman\,serif\;">Child Life at Yale New Haven Children&#39\;s Hospital helps children cope with the adjustments of being in a hospital by providing a variety of play experiences. These activities help both children and families gain a greater understanding of medical procedures\, which helps reduce stress and fear of the unknown. Money raised by this concert will directly benefit pediatric patients at Yale.</span></span><br />\n&nbsp\;<br />\n<span style="color:black\;"><span style="font-family:times new roman\,serif\;">Carrie Smith\, director of The Dance Corner said\, &ldquo\;It has been a long-time dream of mine to bring professional and student dancers from our community together for a performance to benefit those in need.&nbsp\; Part of our mission at The Dance Corner is to promote dance in our community and to give back. This event does both. Since 2017 this event has raised more than $8000 for the Child Life Fund.&nbsp\; We hope to hit $10\,000 this year.&rdquo\;</span></span><br />\n&nbsp\;<br />\n<span style="color:black\;"><span style="font-family:times new roman\,serif\;">Tickets to the Dancing From the Heart show are $15 for adults and $10 for students and seniors. Tickets can be purchased in advance at The Dance Corner\, 206 Route 80\, Killingworth or at the door. The program should run around 1 hour.</span></span><br />\n&nbsp\;<br />\n<span style="color:black\;"><span style="font-family:times new roman\,serif\;">The Dance Corner is dedicated to providing its students with a well-rounded education in all facets of dance and tumbling. Classes are designed to increase confidence\, build self-esteem and develop coordination in an interactive\, group environment. With instruction for all ages and levels of experience. Fall class registration is open\, and free trial classes are available for prospective students. To register or schedule a trial class visit TheDanceCorner.com.</span></span><br />\n&nbsp\;<br />\n<span style="color:black\;"><span style="font-family:times new roman\,serif\;">Conveniently located on Route 80 in Killingworth\, The Dance Corner is easily accessible from the towns of Madison\, Clinton\, Deep River\, Chester\, Essex\, Ivoryton\, Centerbrook\, Haddam\, Higganum\, Westbrook\, Guilford and East Haddam.&nbsp\;</span></span><br />\n&nbsp\;<br />\n<span style="color:black\;"><span style="font-family:times new roman\,serif\;">Further information on The Dance Corner is available at </span></span><span style="font-family:tahoma\,sans-serif\;"><a href="http://thedancecorner.com/" style="text-decoration-line:none\;"><span style="font-family:times new roman\,serif\;">www.thedancecorner.com</span></a></span><span style="color:black\;"><span style="font-family:times new roman\,serif\;">.&nbsp\;&nbsp\;</span></span><br />\n&nbsp\;<br />\n<span style="color:black\;"><span style="font-family:times new roman\,serif\;">For photos and all press requests please contact Carrie Smith at </span></span><span style="font-family:tahoma\,sans-serif\;"><a href="mailto:misscarrie@thedancecorner.com" style="text-decoration-line:none\;"><span style="font-family:times new roman\,serif\;">mailto:misscarrie@thedancecorner.com</span></a></span><span style="color:black\;"><span style="font-family:times new roman\,serif\;">.</span></span>
LOCATION:
UID:e.1932.23993
SEQUENCE:3
DTSTAMP:20260421T004925Z
URL:https://business.middlesexchamber.com/events/details/5th-annual-dancing-from-the-heart-23993
END:VEVENT

END:VCALENDAR
