BEGIN:VCALENDAR
VERSION:2.0
PRODID:-//ChamberMaster//Event Calendar 2.0//EN
METHOD:PUBLISH
X-PUBLISHED-TTL:P3D
REFRESH-INTERVAL:P3D
CALSCALE:GREGORIAN
BEGIN:VEVENT
DTSTART:20220805T210000Z
DTEND:20220805T220000Z
X-MICROSOFT-CDO-ALLDAYEVENT:FALSE
SUMMARY:34th Annual Children's Circus of Middletown Performance
DESCRIPTION:This annual\, unique show will take place August 5th at 5PM. In case of rain\, the performance will take place August 6th at 5PM. The performance will be held outside at Macdonough School\, 66 Spring St. Middletown\, CT.\n\n\n\nThis performance is the culmination of a 5 week day camp for 160 kids ages 5 - 15\, in which they work with professional circus artists to learn juggling\, stilting\, unicycling\, dance\, balance\, acrobatics and other circus skills.\n\n\n\nThe annual performance includes the 160 youth performers\, 40 staff and a live circus band of 15 adults and teenagers. The Children's Circus of Middletown has been an annual collaboration between Oddfellows Playhouse Youth Theater and the Middletown Commission on the Arts since 1989.  In 2018 the Children's Circus was awarded the NY Life Foundation's Excellence in Summer Learning Award.\n\n\n\nTickets are available the day of performance\; $8 for adults and $5 for kids. Please call to reserve wheelchair seating. Bring lawn chairs or blankets and a picnic. Street parking around the neighborhood. Handicapped & Elderly parking only in the school lot.\n\n\n\nThe Children's Circus is part of the Kids Arts Program of the City of Middletown's Office of the Arts and Culture and is directed and produced by Oddfellows Playhouse. Major support is provided by the United Way of Middlesex County\, the Middletown Commission on the Arts\, the Middletown Public Schools\, the Evan Boyd Knoll Memorial Circus Fund\, and the M. Jones Fund at the Community Foundation of Middlesex County.\n\n\n\nOddfellows is also supported by the Connecticut Office of the Arts/DECD\, The Stare Fund\, The State of Connecticut Judicial Branch\, The Fund for Greater Hartford\, Community Foundation of Middlesex County\, American Savings Foundation\, Middletown Youth Services Bureau\, Maximilian E. and Marion O. Hoffman Foundation\, CHEFA Cultural Relief Grant\, New England Foundation for the Arts/New England Arts Resilience Fund\, George & Grace Long Foundation\, and many generous individual donors.\n\n\n\nOddfellows Playhouse offers year-round programs in theater\, circus\, music\, dance\, technical theater\, and visual arts to young people ages 3-20. For additional information\, contact info@oddfellows.org\, call (860) 347-6143 or go to www.oddfellows.org.
X-ALT-DESC;FMTTYPE=text/html:This annual\, unique show will take place August 5th at 5PM. In case of rain\, the performance will take place August 6th at 5PM. The performance will be held outside at Macdonough School\, 66 Spring St. Middletown\, CT.<br />\n<br />\nThis performance is the culmination of a 5 week day camp for 160 kids ages 5 - 15\, in which they work with professional circus artists to learn juggling\, stilting\, unicycling\, dance\, balance\, acrobatics and other circus skills.<br />\n<br />\nThe annual performance includes the 160 youth performers\, 40 staff and a live circus band of 15 adults and teenagers. The Children&#39\;s Circus of Middletown has been an annual collaboration between Oddfellows Playhouse Youth Theater and the Middletown Commission on the Arts since 1989.&nbsp\; In 2018 the Children&#39\;s Circus was awarded the NY Life Foundation&#39\;s Excellence in Summer Learning Award.<br />\n<br />\nTickets are available the day of performance\; $8 for adults and $5 for kids. Please call to reserve wheelchair seating. Bring lawn chairs or blankets and a picnic. Street parking around the neighborhood. Handicapped &amp\; Elderly parking only in the school lot.<br />\n<br />\nThe Children&rsquo\;s Circus is part of the Kids Arts Program of the City of Middletown&rsquo\;s Office of the Arts and Culture and is directed and produced by Oddfellows Playhouse. Major support is provided by the United Way of Middlesex County\, the Middletown Commission on the Arts\, the Middletown Public Schools\, the Evan Boyd Knoll Memorial Circus Fund\, and the M. Jones Fund at the Community Foundation of Middlesex County.<br />\n<br />\nOddfellows is also supported by the Connecticut Office of the Arts/DECD\, The Stare Fund\, The State of Connecticut Judicial Branch\, The Fund for Greater Hartford\, Community Foundation of Middlesex County\, American Savings Foundation\, Middletown Youth Services Bureau\, Maximilian E. and Marion O. Hoffman Foundation\, CHEFA Cultural Relief Grant\, New England Foundation for the Arts/New England Arts Resilience Fund\, George &amp\; Grace Long Foundation\, and many generous individual donors.<br />\n<br />\nOddfellows Playhouse offers year-round programs in theater\, circus\, music\, dance\, technical theater\, and visual arts to young people ages 3-20. For additional information\, contact info@oddfellows.org\, call (860) 347-6143 or go to www.oddfellows.org.
LOCATION:Macdonough School 66 Spring Street Middletown\, CT
UID:e.1932.23851
SEQUENCE:3
DTSTAMP:20260421T033332Z
URL:https://business.middlesexchamber.com/events/details/34th-annual-children-s-circus-of-middletown-performance-23851
END:VEVENT

END:VCALENDAR
