BEGIN:VCALENDAR
VERSION:2.0
PRODID:-//ChamberMaster//Event Calendar 2.0//EN
METHOD:PUBLISH
X-PUBLISHED-TTL:P3D
REFRESH-INTERVAL:P3D
CALSCALE:GREGORIAN
BEGIN:VEVENT
DTSTART;VALUE=DATE:20211202
DTEND;VALUE=DATE:20211203
TRANSP:TRANSPARENT
X-MICROSOFT-CDO-ALLDAYEVENT:TRUE
SUMMARY:33rd Annual Mercy High School Yellow Rose Virtual Auction
DESCRIPTION:Excitement is building along with the list of items that will be available in the Yellow Rose Auction\; get ready to Christmas shop from the comfort of your own home!\n\n\n\nBidding opens at 7 p.m. on Black Friday\, November 26! There are many ways to support Mercy in this important fundraiser:\n\n\n\n- Buy raffle tickets for an Ooni Pizza Oven or a beautiful Christmas wreath crammed with scratch-off lottery tickets.\n\n\n\n- Bid on the 100+ items (and counting) in the auction starting November 26 at 7 p.m. and ending December 4 at 9 p.m.\n\n\n\n- "Raise Your Paw" and make a straight donation to support this year's auction beneficiaries - Mercy's outstanding Science and Art programs\n\n\n\nVisit Mercy's website at www.mercyhigh.com for more information.\n\n\n\nThank you in advance for your support!
X-ALT-DESC;FMTTYPE=text/html:Excitement is building along with the list of items that will be available in the Yellow Rose Auction\; get ready to Christmas shop from the comfort of your own home!<br />\n<br />\nBidding opens at 7 p.m. on Black Friday\, November 26! There are many ways to support Mercy in this important fundraiser:<br />\n<br />\n- Buy raffle tickets for an Ooni Pizza Oven or a beautiful Christmas wreath crammed with scratch-off lottery tickets.<br />\n<br />\n- Bid on the 100+ items (and counting) in the auction starting November 26 at 7 p.m. and ending December 4 at 9 p.m.<br />\n<br />\n- &quot\;Raise Your Paw&quot\; and make a straight donation to support this year&#39\;s auction beneficiaries - Mercy&#39\;s outstanding Science and Art programs<br />\n<br />\nVisit Mercy&#39\;s website at www.mercyhigh.com for more information.<br />\n<br />\nThank you in advance for your support!
LOCATION:Virtual. In the comforts of your home.
UID:e.1932.22366
SEQUENCE:3
DTSTAMP:20260421T084141Z
URL:https://business.middlesexchamber.com/events/details/33rd-annual-mercy-high-school-yellow-rose-virtual-auction-12-02-2021-22366
END:VEVENT

END:VCALENDAR
