BEGIN:VCALENDAR
VERSION:2.0
PRODID:-//ChamberMaster//Event Calendar 2.0//EN
METHOD:PUBLISH
X-PUBLISHED-TTL:P3D
REFRESH-INTERVAL:P3D
CALSCALE:GREGORIAN
BEGIN:VEVENT
DTSTART:20231216T140000Z
DTEND:20231216T220000Z
X-MICROSOFT-CDO-ALLDAYEVENT:FALSE
SUMMARY:30th Annual Train Show
DESCRIPTION:Do you hear the train coming? All Aboard! Don?t miss out on this New England holiday tradition. The family-friendly Train Show exhibit is back for its 30th year at the Connecticut River Museum and is sure to surprise and delight visitors of all ages.\n\n\n\nSee what train artist Steve Cryan has created this year! A fully operational nearly 30-foot train layout\, ?I SPY? scavenger hunts\, and a toddler-sized viewing layout are all part of the fun!\n\n\n\nNOTE: A members-only Train Show Opening Event will be held from 4-6 p.m. Nov. 21. Stay tuned for more information on the event opening.\n\n\n\nLinks: (Train Show) - CLICK HERE\n\n(Train Show Member Opening) - CLICK HERE
X-ALT-DESC;FMTTYPE=text/html:Do you hear the train coming? All Aboard! Don?t miss out on this New England holiday tradition. The family-friendly Train Show exhibit is back for its 30th year at the Connecticut River Museum and is sure to surprise and delight visitors of all ages.<br />\n<br />\nSee what train artist Steve Cryan has created this year! A fully operational nearly 30-foot train layout\, ?I SPY? scavenger hunts\, and a toddler-sized viewing layout are all part of the fun!<br />\n<br />\nNOTE: A members-only Train Show Opening Event will be held from 4-6 p.m. Nov. 21. Stay tuned for more information on the event opening.<br />\n<br />\nLinks: (Train Show) - <a href="https://ctrivermuseum.org/events/30th-annual-train-show/"><strong>CLICK HERE</strong></a><br />\n(Train Show Member Opening) - <a href="https://ctrivermuseum.org/events/members-event-30th-annual-train-show-opening/"><strong>CLICK HERE</strong></a><br />\n&nbsp\;
LOCATION:Connecticut River Museum 67 Main Street Essex\, CT 06426
UID:e.1932.26838
SEQUENCE:3
DTSTAMP:20260420T054338Z
URL:https://business.middlesexchamber.com/events/details/30th-annual-train-show-12-16-2023-26838
END:VEVENT

END:VCALENDAR
