BEGIN:VCALENDAR
VERSION:2.0
PRODID:-//ChamberMaster//Event Calendar 2.0//EN
METHOD:PUBLISH
X-PUBLISHED-TTL:P3D
REFRESH-INTERVAL:P3D
CALSCALE:GREGORIAN
BEGIN:VEVENT
DTSTART:20260606T170000Z
DTEND:20260606T183000Z
X-MICROSOFT-CDO-ALLDAYEVENT:FALSE
SUMMARY:2026 Middletown Pride March Registration
DESCRIPTION:Registration Cutoff: Friday\, May 1\, 2026\n\n \n\nOnce you register and pay to participate in the Middletown Pride March\, you will then receive an email with the official Middletown Pride Rules and Regs you will be required to fill out\, sign and return.\n\n \n\nPlease note: If you are planning on participating with a float\, it must meet the following requirements:\n\n\n	Float Dimensions may not exceed: 12' wide x 25' long x 12' high (street to highest point\, including standing height for persons).\n	Floats must have railings at least 42' high around any surface where participants will be standing or riding.\n	Trailers must be towed by an accompanying vehicle and have a turning radius of no greater than 30'.
X-ALT-DESC;FMTTYPE=text/html:<div style="font-family: arial\;"><strong>Registration Cutoff: Friday\, May 1\, 2026</strong><br />\n&nbsp\;<br />\nOnce you register and pay to participate in the Middletown Pride March\, you will then receive an email with the official Middletown Pride Rules and Regs you will be required to fill out\, sign and return.<br />\n&nbsp\;<br />\nPlease note: If you are planning on participating with a float\, it must meet the following requirements:</div>\n\n<ul>\n	<li style="font-family: arial\;">Float Dimensions may not exceed: 12&#39\; wide x 25&#39\; long x 12&#39\; high (street to highest point\, including standing height for persons).</li>\n	<li style="font-family: arial\;">Floats must have railings at least 42&#39\; high around any surface where participants will be standing or riding.</li>\n	<li><span style="font-family:arial\;">Trailers must be towed by an accompanying vehicle and have a turning radius of no greater than 30&#39\;.</span></li>\n</ul>\n
LOCATION:Staging Area: Spring Street\, Middletown\, CT March Route: Down Main Street\, Middletown\, CT (north to south) End of March: Intersection of Main Street and Union Street.
UID:e.1932.34763
SEQUENCE:3
DTSTAMP:20260424T192615Z
URL:https://business.middlesexchamber.com/events/details/2026-middletown-pride-march-registration-34763
END:VEVENT

END:VCALENDAR
